BEGIN:VCALENDAR
VERSION:2.0
PRODID:-//At God&#039;s Door Ministries - ECPv6.15.13//NONSGML v1.0//EN
CALSCALE:GREGORIAN
METHOD:PUBLISH
X-WR-CALNAME:At God&#039;s Door Ministries
X-ORIGINAL-URL:https://yourvisionwriters.com
X-WR-CALDESC:Events for At God&#039;s Door Ministries
REFRESH-INTERVAL;VALUE=DURATION:PT1H
X-Robots-Tag:noindex
X-PUBLISHED-TTL:PT1H
BEGIN:VTIMEZONE
TZID:America/Chicago
BEGIN:DAYLIGHT
TZOFFSETFROM:-0600
TZOFFSETTO:-0500
TZNAME:CDT
DTSTART:20250309T080000
END:DAYLIGHT
BEGIN:STANDARD
TZOFFSETFROM:-0500
TZOFFSETTO:-0600
TZNAME:CST
DTSTART:20251102T070000
END:STANDARD
BEGIN:DAYLIGHT
TZOFFSETFROM:-0600
TZOFFSETTO:-0500
TZNAME:CDT
DTSTART:20260308T080000
END:DAYLIGHT
BEGIN:STANDARD
TZOFFSETFROM:-0500
TZOFFSETTO:-0600
TZNAME:CST
DTSTART:20261101T070000
END:STANDARD
BEGIN:DAYLIGHT
TZOFFSETFROM:-0600
TZOFFSETTO:-0500
TZNAME:CDT
DTSTART:20270314T080000
END:DAYLIGHT
BEGIN:STANDARD
TZOFFSETFROM:-0500
TZOFFSETTO:-0600
TZNAME:CST
DTSTART:20271107T070000
END:STANDARD
END:VTIMEZONE
BEGIN:VEVENT
DTSTART;VALUE=DATE:20260316
DTEND;VALUE=DATE:20260317
DTSTAMP:20260423T144625
CREATED:20251224T075656Z
LAST-MODIFIED:20260113T115737Z
UID:10000091-1773619200-1773705599@yourvisionwriters.com
SUMMARY:2 Timothy 1:5
DESCRIPTION:2 Timothy 1:5 I rejoice in the pure faith that I see in you. Remember that you are the third generation of a strong lineage of faith. The same unwavering persuasion that indwelt your grandmother Lois also resides in your mother Eunice and is now abundantly evident in you. (TMB) \nDo you have experiences that make The Lord real for you? \nIf you read Genesis 22:1-13*\, you will find the story of Abraham going to sacrifice his son. When this story is told\, the focus is normally on Abraham. He was the father of faith. Look at the interaction between Abraham and Isaac for just a moment. Here is a 90+ year old man tying a young man to the altar. Isaac wasn’t too young to understand what was going on. He was also not too young to at least try to stop Abraham\, or plead with him if he wanted to. Isaac allowed Abraham to tie him to the altar and did not move. Abraham did not transfer faith to Isaac in his DNA. However\, I am sure Isaac saw the faith of his father day in and day out. Now it was his turn\, isn’t it a glorious thing when\, though you have in your lineage powerful men and women in the Lord\, you find your own place in God. How do you find your own place in God? \n\nBe sure of your salvation.\n\nRomans 10:9-10 because if you acknowledge and confess with your mouth that Jesus is Lord [recognizing His power\, authority\, and majesty as God]\, and believe in your heart that God raised Him from the dead\, you will be saved. 10 For with the heart a person believes [in Christ as Savior] resulting in his justification [that is\, being made righteous—being freed of the guilt of sin and made acceptable to God]; and with the mouth he acknowledges and confesses [his faith openly]\, resulting in and confirming [his] salvation. (AMP) \nJohn 14:6 Jesus said to him\, “I am the [only] Way [to God] and the [real] Truth and the [real] Life; no one comes to the Father but through Me.” (AMP) \n\nPray that God would grant you the faith to know Him more deeply.\n\nJude 20 But you\, beloved\, build yourselves up on [the foundation of] your most holy faith [continually progress\, rise like an edifice higher and higher]\, pray in the Holy Spirit\, (AMP) \nRomans 10:17 Consequently\, faith comes from hearing the message\, and the message is heard through the word about Christ. (NIV) \n\nSubmit to be tested.\n\nJames 1:2-4 Consider it wholly joyful\, my brethren\, whenever you are enveloped in or encounter trials of any sort or fall into various temptations. 3 Be assured and understand that the trial and proving of your faith bring out endurance and steadfastness and patience. 4 But let endurance and steadfastness and patience have full play and do a thorough work\, so that you may be [people] perfectly and fully developed [with no defects]\, lacking in nothing. (AMPC) \nPhilippians 2:14-15 Do all things without grumbling and faultfinding and complaining [against God] and questioning and doubting [among yourselves]\, 15 That you may show yourselves to be blameless and guileless\, innocent and uncontaminated\, children of God without blemish (faultless\, unrebukable) in the midst of a crooked and wicked generation [spiritually perverted and perverse]\, among whom you are seen as bright lights (stars or beacons shining out clearly) in the [dark] world\, (AMPC) \nWhat a blessing to move from the “God of my father/mother etc.” to “my Lord and My God”. Are you willing to submit to the process in order to experience that transition? To know God for yourself makes you dangerous to the enemy. \nPlease agree with me as I pray. Then ask the Lord what your prayer should be and wait for His response: \nFather\, I thank You for every experience I’ve had. I thank You for the scripture my father quoted to me all my life. “I have never seen the righteous forsaken nor his seed begging bread.” I thank You for making provision for me when I couldn’t explain how or why. You were right there. Now I don’t have to only read and hear about Jehovah Jireh. You provide for me. I don’t have to only read and hear about Jehovah Nissi. You are my banner. I don’t have to only read and hear about Jehovah Tsidekenu. You are my righteousness. I don’t have to only read and hear about Jehovah Maccadeschem. You sanctify me. I repent for not allowing my experiences to make You more real to me. I no longer live a life where I read and listen to other people talk about who You are. I live a life\, Father God\, where You manifest Yourself in my life and You are real to me…\n \nAsk the lord what he wants to say to you about today’s devotional and journal it here:    \n* Genesis 22:1-13 Now it came to pass after these things that God tested Abraham\, and said to him\, “Abraham!” And he said\, “Here I am.” 2 Then He said\, “Take now your son\, your only son Isaac\, whom you love\, and go to the land of Moriah\, and offer him there as a burnt offering on one of the mountains of which I shall tell you.” 3 So Abraham rose early in the morning and saddled his donkey\, and took two of his young men with him\, and Isaac his son; and he split the wood for the burnt offering\, and arose and went to the place of which God had told him. 4 Then on the third day Abraham lifted his eyes and saw the place afar off. 5 And Abraham said to his young men\, “Stay here with the donkey; the lad and I will go yonder and worship\, and we will come back to you.” 6 So Abraham took the wood of the burnt offering and laid it on Isaac his son; and he took the fire in his hand\, and a knife\, and the two of them went together. 7 But Isaac spoke to Abraham his father and said\, “My father!” And he said\, “Here I am\, my son.” Then he said\, “Look\, the fire and the wood\, but where is the lamb for a burnt offering?” 8 And Abraham said\, “My son\, God will provide for Himself the lamb for a burnt offering.” So the two of them went together. 9 Then they came to the place of which God had told him. And Abraham built an altar there and placed the wood in order; and he bound Isaac his son and laid him on the altar\, upon the wood. 10 And Abraham stretched out his hand and took the knife to slay his son. 11 But the Angel of the Lord called to him from heaven and said\, “Abraham\, Abraham!” So he said\, “Here I am.” 12 And He said\, “Do not lay your hand on the lad\, or do anything to him; for now I know that you fear God\, since you have not withheld your son\, your only son\, from Me.” 13 Then Abraham lifted his eyes and looked\, and there behind him was a ram caught in a thicket by its horns. So Abraham went and took the ram\, and offered it up for a burnt offering instead of his son.
URL:https://yourvisionwriters.com/devotional/2-timothy-15/
CATEGORIES:March
END:VEVENT
BEGIN:VEVENT
DTSTART;VALUE=DATE:20260317
DTEND;VALUE=DATE:20260318
DTSTAMP:20260423T144625
CREATED:20251224T084527Z
LAST-MODIFIED:20260113T115737Z
UID:10000102-1773705600-1773791999@yourvisionwriters.com
SUMMARY:This letter is from Paul
DESCRIPTION:This letter is from Paul\, a slave of God and an apostle of Jesus Christ. I have been sent to proclaim faith to those God has chosen and to teach them to know the truth that shows them how to live godly lives. (NLT) \nAre you waiting to understand what the will of God is for your life before you serve? \nHas there been a day when you said\, “I want to know what the will of God is for my life”? Maybe you said\, “I just want to do what the will of God is for my life.” Have you gone to spiritual leaders and friends and expressed your plight? I would like to provide you with something to think about. Are you able to say?: \n2 Timothy 4:2 “I am a slave and ambassador of the Lord God Almighty. I spend my life as His agent promoting the faith. I do so with a sense of urgency. I proclaim an accurate word about my Father\, who is in heaven. Whether the opportunity seems to be favorable or unfavorable. Whether it is convenient or inconvenient. Whether it is welcome or unwelcome. I show people their need for Jesus and convince them\, rebuking\, correcting\, warning\, urging and encouraging them\, to respond rightly to the words I speak. I am steadfast\, untiring and patient as I teach.” (AMPC\, edited) \nThis is Paul’s charge to Timothy. However\, he is not the only one who should say these words. Every believer should. \nMatthew 28:19 Go ye therefore\, and teach all nations\, baptizing them in the name of the Father\, and of the Son\, and of the Holy Ghost: (KJV) \nThe wonderful thing is\, Paul did it his way\, Timothy did it his way\, and you can do it your way. You are to live your life and accomplish these simple tasks within the confines of who you are. Use your personality\, skills\, passions\, etc. \nMatthew 25:23 Commending his servant\, the master replied\, “You have done well\, and proven yourself to be my loyal and trustworthy servant. Because you were faithful to manage a small sum\, now I will put you in charge of much\, much more. You will experience the delight of your master\, who will say to you\, Enter into the joy of your Lord!” (TPT) \nAs you take these steps\, God will unfold for you His purpose and plan for your life that is uniquely yours. \nPlease agree with me as I pray. Then ask the Lord what your prayer should be and wait for His response: \nFather\, I know I have asked You what Your will for my life is on more occasions than I can count. I have said this to those who were in a spiritual position I trusted. I have said it to myself. I have asked my family to be in prayer for the answer. I am sorry I spent more time asking You instead of following You and I repent. Father\, as I read this passage today\, You reminded me of the day when You gave me the revelation of Your guidance. My job is to put one foot in front of the other as You order my steps. I just had to do the basic things described in the scripture. I have made it my mission to persuade others through my life and in my conversation that You are the One True God. You are the God that loves\, heals\, and delivers. I proclaim Your word. It doesn’t have to be in a pulpit\, and it does not have to be forceful or inappropriate. I just had to shift my everyday conversation. Now You manifest Yourself in my life in a greater way\, and I pray You will continue to do so. You reveal to me who I am in You and who You created me to be\, bit by bit\, as I am ready. I thank You. I also thank You for uniquely designing me with my personality\, my idiosyncrasies\, and with those character straits that make me who I am. I thank You for the people You ordained for me to speak to and witness to. I thank You for every opportunity and I pray I will not pass on any of them while I am waiting on some spectacular task…\n \nAsk the lord what he wants to say to you about today’s devotional and journal it here:
URL:https://yourvisionwriters.com/devotional/this-letter-is-from-paul/
CATEGORIES:March
END:VEVENT
BEGIN:VEVENT
DTSTART;VALUE=DATE:20260318
DTEND;VALUE=DATE:20260319
DTSTAMP:20260423T144625
CREATED:20251224T084739Z
LAST-MODIFIED:20260113T115737Z
UID:10000103-1773792000-1773878399@yourvisionwriters.com
SUMMARY:2 Timothy 3:13
DESCRIPTION:2 Timothy 3:13 People who are trapped in the mindset of hardships\, labors and annoyances will continue to desperately try to get mileage out of a dead and redundant system. The lie that they believe is the very currency in which they trade. (TMB) \nDo you live and speak of hope? \nDo you listen to the radio or watch the news and ask yourself\, can it get any worse? Well\, the answer to your question is yes\, the Bible says so. \n2 Timothy 3:1-7 And know this: in the last days\, times will be hard. 2 You see\, the world will be filled with narcissistic\, money-grubbing\, pretentious\, arrogant\, and abusive people. They will rebel against their parents and will be ungrateful\, unholy\, 3 uncaring\, coldhearted\, accusing\, without restraint\, savage\, and haters of anything good. 4 Expect them to be treacherous\, reckless\, swollen with self-importance\, and given to loving pleasure more than they love God. 5 Even though they may look or act like godly people\, they’re not. They deny His power. (TVT) \nDoes that mean you just give up? No\, it does not. Those who have gone before us did not. \nJohn 16:33 And everything I’ve taught you is so that the peace which is in me will be in you and will give you great confidence as you rest in me. For in this unbelieving world you will experience trouble and sorrows\, but you must be courageous\, for I have conquered the world! (TPT) \nThose who spread bad news have a purpose. They set out to manipulate you and make you think there is no hope. They are fear merchants. They make you afraid of your trials\, sorrows\, and suffering. They make you afraid of the evil in the world\, of being slandered\, maligned and insulted. When you are afraid\, you are stifled and stuck\, like a deer in the headlights. You don’t go forward; you don’t witness; you don’t preach\, you just wait for the next terrible thing to happen. You rehearse the bad news to others and cause them to fear. Sometimes you may feel overwhelmed and discouraged by what you see happening. It may even appear that this world is God-less; you still should have hope. Do what it says in 1 Peter 3:15. \nBut in your hearts revere Christ as Lord. Always be prepared to give an answer to everyone who asks you to give the reason for the hope that you have. But do this with gentleness and respect. (NIV) \nSee and read the news through the eyes of Christ and live with hope. \nPlease agree with me as I pray. Then ask the Lord what your prayer should be and wait for His response: \nFather\, in the name of Jesus\, I thank You for giving me the opportunity to speak life and hope. I live in a world where it appears the enemy has the victory. It seems as if there is no value system. As believers\, we have turned to the worldview\, become politically correct\, and lost our power to uplift and encourage. It looks like the evildoers are prospering. I repent for allowing those feelings into my heart as well. Thank You for encouraging me. Father\, I know You have already won the victory; help me live like it. As a follower of Christ\, I know this life will not always be easy or without trial. However\, You have promised it can be real\, full and lasting. Because I accepted Jesus\, I am reborn into an inheritance which is beyond the reach of change and decay. It is imperishable\, untarnished and unfading\, reserved in heaven for me. Therefore\, I live with hope. I thank You because I am not governed by what I see. I am governed by what Your word says and the truth You have breathed in me. Though\, in the end\, I will be with You in glory; I can and should have joy and hope right now. I thank You…\n \nAsk the lord what he wants to say to you about today’s devotional and journal it here:
URL:https://yourvisionwriters.com/devotional/2-timothy-313/
CATEGORIES:March
END:VEVENT
BEGIN:VEVENT
DTSTART;VALUE=DATE:20260319
DTEND;VALUE=DATE:20260320
DTSTAMP:20260423T144625
CREATED:20251224T084912Z
LAST-MODIFIED:20260113T115737Z
UID:10000105-1773878400-1773964799@yourvisionwriters.com
SUMMARY:James 2:22
DESCRIPTION:James 2:22 You see that [his] faith was working together with his works\, and as a result of the works\, his faith was completed [reaching its maturity when he expressed his faith through obedience]. (AMP) \nAre your responses to life building your faith? \nDo you say you are a Christian? Do you believe God has a plan for your life? Do you believe His plan is for good and not for evil? Do you believe\, if the Lord began the plan\, He will perform it? If you said yes to all those questions\, then you should act like it. Rudyard Kipling wrote a poem that gives an excellent example of the life a believer should live. \nYou should be able to stay calm when everyone else is coming apart. \nYou should stand on what you know the Lord has spoken to you\, when everyone around you doubts you. \nYou should be able to wait on the Lord and not get tired of waiting. \nIf you are being lied about\, you should not deal in lies. \nIf you are being treated with hatred\, you should not give place to hating. \nYou should be able to speak to crowds and not become arrogant. \nYou should be able to walk with Kings and remain humble. \nNeither your enemies nor loving friends should be able to hurt you. \nIf you can live the life described in the edited poem\, every blessing God has promised\, in this life will be yours. What’s more\, you can truly call yourself a Christian! \nPlease agree with me as I pray. Then ask the Lord what your prayer should be and wait for His response: \nFather\, I thank You for faith. You gave me the faith I needed to trust You for my salvation. You gave me instruction on how to increase my faith. As I spend time with You\, as I pray and wait for Your answer to my prayers\, as I watch to see You at work\, my faith is increased. I know it is not enough for me to have faith; I have to demonstrate my faith by allowing You to work through me. I repent for those times when I did not take what I knew about faith in You and act upon it. Thank You for teaching me the way to show I have faith in You. I will not lie to get ahead. I will not mistreat those who mistreat me. I know faith without works is dead. My desire is to live a life that says\, “I believe God”. If I can live that life\, then I will have done my part to help You be lifted\, then You will draw all men unto You… \nAsk the lord what he wants to say to you about today’s devotional and journal it here:
URL:https://yourvisionwriters.com/devotional/james-222/
CATEGORIES:March
END:VEVENT
BEGIN:VEVENT
DTSTART;VALUE=DATE:20260320
DTEND;VALUE=DATE:20260321
DTSTAMP:20260423T144625
CREATED:20251224T085204Z
LAST-MODIFIED:20260113T115737Z
UID:10000106-1773964800-1774051199@yourvisionwriters.com
SUMMARY:2 Peter 1:1
DESCRIPTION:2 Peter 1:1 Simon Peter\, a servant and an apostle of Jesus Christ\, to them that have obtained like precious faith with us through the righteousness of God and our Savior Jesus Christ: (KJV) \nWho are your friends? \nAs you continue to accept the will of God for your life\, you will begin to identify yourself as an extension of God’s will. Titles\, positions and associations with men will not define you. You will understand your relationship with the Lord Jesus will define all you are and ever hope to be. \nActs 17:28 For in him we live\, and move\, and have our being; (KJV) \nYou won’t be partners with those who live a compromised life. Why? Because their views of what is acceptable and what is not will differ from yours. You will witness to those who reject God\, not try to be friends with them; you want them to come into the knowledge of the truth. How can you make a friendship between right and wrong? That’s not friendship; that’s war. Light cannot be best friends with dark. \n1 Corinthians 15:33 So stop fooling yourselves! Evil companions will corrupt good morals and character. (TPT) \nYou will want to be around those who see themselves as a temple in whom God lives. You will desire to be friends with like-minded believers who will encourage you and who you will encourage. You will want to fellowship with those who have made the same claim you made\, “I am a servant of the most high God”. \nJohn 15:15 I no longer call you slaves\, because a master doesn’t confide in his slaves. Now you are my friends\, since I have told you everything the Father told me. (NKJV) \nPlease agree with me as I pray. Then ask the Lord what your prayer should be and wait for His response: \nFather\, First I want to repent for choosing my friends without seeking You. You kept me. I thank You for surrounding me with believers who are like-minded. We do not base our connection on title\, position\, or economic status. We base our connection on our ability to feel Your presence. We build each other up\, sharing truth and grace when needed. We can see You in each other’s lives\, to witness Your transformation power and celebrate what You are doing\, and I thank You. We encourage each other to seek You more and more\, and You will continue to buff and polish us. Father\, I want to be the person You created me to be and ultimately the image and likeness of Your Son and my brother\, Jesus Christ. I honor You by choosing those I fellowship with and those I council with by the Spirit and not the flesh. You give me the opportunity to minister to believers and to encourage them. I give You glory and honor for living in a time where I have the liberty and the freedom to speak Your name…\n \nAsk the lord what he wants to say to you about today’s devotional and journal it here:
URL:https://yourvisionwriters.com/devotional/2-peter-11/
CATEGORIES:March
END:VEVENT
BEGIN:VEVENT
DTSTART;VALUE=DATE:20260321
DTEND;VALUE=DATE:20260322
DTSTAMP:20260423T144625
CREATED:20251224T085337Z
LAST-MODIFIED:20260113T115737Z
UID:10000107-1774051200-1774137599@yourvisionwriters.com
SUMMARY:1 John 5:4
DESCRIPTION:1 John 5:4 For whatsoever is born of God overcometh the world: and this is the victory that overcometh the world\, even our faith. (KJV) \nWho or what is your faith in? \nAre there days when you just don’t feel like an overcomer? The wonderful thing is\, even though you may not feel like it\, you are an overcomer. If you are born again\, then you do not base your ability to overcome on you; you base your ability to overcome on the Father and the faith you have in Him. \n1 John 5:4-5 You see\, every child of God overcomes the world\, for our faith is the victorious power that triumphs over the world. 5 So who are the world conquerors\, defeating its power? Those who believe that Jesus is the Son of God. (TPT) \nFaith also not a feeling\, it is a fact. According to your faith\, though it is only the size of a mustard seed\, you can move mountains. You have to make sure your faith is in the Father and His will. Just hoping and even praying God will do something\, because you want it\, is not faith. God’s will is His word\, and His word is His will; this is the foundation of your faith. \n1 John 5:13-15 These things I have written to you who believe in the name of the Son of God [which represents all that Jesus Christ is and does]\, so that you will know [with settled and absolute knowledge] that you [already] have eternal life. 14 This is the [remarkable degree of] confidence which we [as believers are entitled to] have before Him: that if we ask anything according to His will\, [that is\, consistent with His plan and purpose] He hears us. 15 And if we know [for a fact\, as indeed we do] that He hears and listens to us in whatever we ask\, we [also] know [with settled and absolute knowledge] that we have [granted to us] the requests which we have asked from Him. (AMP) \nThis can be tricky sometimes because you may be able to find scriptures that substantiate your desire. Then you have to wait and see if what you want is God’s will in the situation. You will see if He answers your prayer in the way you requested\, or He requires you to align yourself with His will. You can and will overcome because He knows what’s best. \nPlease agree with me as I pray. Then ask the Lord what your prayer should be and wait for His response: \nFather\, I thank You because I am born of Your Spirit; I have victory and I am an overcomer. I thank You for sealing truth in me. I am not shaken when the enemy comes. Your word says even if my faith is as small as a mustard seed\, I can speak to my mountains. I thank You for showing me Your will when my prayers and my desires do not line up. I thank You for continuing to draw me close. I will spend more time with You. It is during those times when You identify the things in my life that don’t line up with Your will. You are developing me. I won’t quit because something did not go my way or simply because it’s inconvenient or uncomfortable for me. I am learning to embrace and accept Your will. I repent for using my prayers and what I may have found in the word to influence You\, command Your power\, usurp Your authority\, or dictate the outcome. I have the faith to bring under subjection any thought\, emotion or idea that exalts itself against You…\n \nAsk the lord what he wants to say to you about today’s devotional and journal it here:
URL:https://yourvisionwriters.com/devotional/1-john-54/
CATEGORIES:March
END:VEVENT
BEGIN:VEVENT
DTSTART;VALUE=DATE:20260322
DTEND;VALUE=DATE:20260323
DTSTAMP:20260423T144625
CREATED:20251224T085455Z
LAST-MODIFIED:20260113T115737Z
UID:10000108-1774137600-1774223999@yourvisionwriters.com
SUMMARY:Romans 8:15
DESCRIPTION:Romans 8:15 For ye have not received the spirit of bondage again to fear; but ye have received the Spirit of adoption\, whereby we cry\, Abba\, Father. (KJV) \nAre you willing to be used by God in difficult situations? \nHave you heard or read a definition of Fear that states: Fear is false evidence appearing real? You may have quoted it and used it for encouragement to someone else. Sometimes the evidence is not false and there may be a legitimate reason to be fearful. The doctors may have found cancer\, high blood pressure\, a tumor\, spots on the mammogram\, etc. At that point\, you cry out to your Daddy\, and then stand. You don’t walk in torment because of the report. You walk in the power that says whatever happens\, God’s desire will prevail in your life. He knows what you can handle. His thoughts are good and not evil. He has an expected end for your life. Can you accept you may have to go through some difficult situations\, or do you want God to intervene supernaturally? \nJohn 9:1-3 And as Jesus passed by\, he saw a man which was blind from his birth. 2 And his disciples asked him\, saying\, Master\, who did sin\, this man\, or his parents\, that he was born blind? 3 Jesus answered\, Neither hath this man sinned\, nor his parents: but that the works of God should be made manifest in him. (KJV) \nIt is not wrong to want the intervention. Maybe the reason you are in the situation is for God to manifest His work in you. Did you ever stop to think that God chose you for the task? Can you imagine God wanted someone to show the world how to go through\, without fear\, knowing He is in control; and He picked you. If you are willing\, you can hold your head up and stand victorious because of His power at work within you. \nPlease agree with me as I pray. Then ask the Lord what your prayer should be and wait for His response: \nFather\, there have been times in my life when I have gotten bad reports. I repent for responding to the situation and the report instead of trusting You. I know there are more bad reports and tough times coming. When they come\, I will have to choose how I am going to respond again. Help me choose to trust You\, to believe You\, and to stand on Your word without moving. The enemy is no longer trying to fool me with imaginations and dismal forebodings. He is coming against me with actual situations and circumstances. Father\, I have to deal with them. I have to face them. I want to believe the report of the Lord. I want to believe I am above and not beneath. I want to believe I am the lender and not one who borrows. Help me hear the facts\, yet believe The Truth. I know I cannot allow fear\, intimidation\, or anything the enemy throws my way to govern me. I know I can cry out to You\, Daddy\, and find peace and refuge in the midst of any storm. I want to always ask You to remove the problem. I want to know You have already given me the strength to endure it and I will be the better for it…\n \nAsk the lord what he wants to say to you about today’s devotional and journal it here:
URL:https://yourvisionwriters.com/devotional/romans-815/
CATEGORIES:March
END:VEVENT
END:VCALENDAR