BEGIN:VCALENDAR
VERSION:2.0
PRODID:-//At God&#039;s Door Ministries - ECPv6.15.13//NONSGML v1.0//EN
CALSCALE:GREGORIAN
METHOD:PUBLISH
X-ORIGINAL-URL:https://yourvisionwriters.com
X-WR-CALDESC:Events for At God&#039;s Door Ministries
REFRESH-INTERVAL;VALUE=DURATION:PT1H
X-Robots-Tag:noindex
X-PUBLISHED-TTL:PT1H
BEGIN:VTIMEZONE
TZID:America/Chicago
BEGIN:DAYLIGHT
TZOFFSETFROM:-0600
TZOFFSETTO:-0500
TZNAME:CDT
DTSTART:20250309T080000
END:DAYLIGHT
BEGIN:STANDARD
TZOFFSETFROM:-0500
TZOFFSETTO:-0600
TZNAME:CST
DTSTART:20251102T070000
END:STANDARD
BEGIN:DAYLIGHT
TZOFFSETFROM:-0600
TZOFFSETTO:-0500
TZNAME:CDT
DTSTART:20260308T080000
END:DAYLIGHT
BEGIN:STANDARD
TZOFFSETFROM:-0500
TZOFFSETTO:-0600
TZNAME:CST
DTSTART:20261101T070000
END:STANDARD
BEGIN:DAYLIGHT
TZOFFSETFROM:-0600
TZOFFSETTO:-0500
TZNAME:CDT
DTSTART:20270314T080000
END:DAYLIGHT
BEGIN:STANDARD
TZOFFSETFROM:-0500
TZOFFSETTO:-0600
TZNAME:CST
DTSTART:20271107T070000
END:STANDARD
END:VTIMEZONE
BEGIN:VEVENT
DTSTART;VALUE=DATE:20260525
DTEND;VALUE=DATE:20260526
DTSTAMP:20260421T184947
CREATED:20251224T093355Z
LAST-MODIFIED:20260113T133759Z
UID:10000160-1779667200-1779753599@yourvisionwriters.com
SUMMARY:Colossians 3:23
DESCRIPTION:Colossians 3:23 Whatever you do\, work heartily\, as for the Lord and not for men\, (KJV) \nWho are you working for?  \nHave you ever been sitting at work\, doing nothing\, and when you saw the boss coming your way\, you started to “look like you were working”? Did you convince yourself you deserved a break? Do you work harder when you know the “important people” will review your work than you do when you think they are not? Does your attitude about your boss affect how you view your job? The wonderful thing about the life of a Christian is: you don’t have to pretend you like your job; you should actually love your job!  \nEphesians 6:6-7 Don’t put on a show just because they are looking (as if you were a people pleaser); but as a slave of the Anointed\, do the will of God from your heart. 7 Serve them in good faith as if you were serving the Lord\, not men\, (TVT) \nThe job you are on and the people you work with are your assignment\, no matter where you are working. Whether you are in the permissive or perfect will of God\, you are there. If you are a believer\, God hired you; and He is in charge of Human Resources. You have heard this saying\, and it’s more true for the Lord than any other business you have worked for\, “The needs of the business come first”.  \n1 Peter 2:13-16 Submit to all the sons of men for the sake of God; to Kings\, because of their authority\, 14 And Judges\, because they are sent by him for the punishment of wrongdoers and for the praise of the workers of good. 15 For it is the will of God in this way that by your excellent works you may shut the mouths of fools – those who do not know God\, 16 As free children\, and not as persons who make their liberty a cloak for their evil\, but as Servants of God. (TAB) \nWhen you work\, your goal should be to please God. Make your work decisions based on what you know God has commanded for your life\, not on what has happened or is happening to you on the job.  \nPlease agree with me as I pray. Then ask the Lord what your prayer should be and wait for His response: \nFather\, I thank You for reminding me I am working for You. It doesn’t matter if someone is or isn’t watching because I know You are. It doesn’t matter if anyone appreciates or acknowledges the work I do. I’m working for You. I repent for anytime I acted like I was working for anyone else\, including myself. Help me to always see my job as an assignment. My position or title may dictate my pay. You govern how I perform. Your approval is all I seek. I know if I am listening\, You won’t allow me to get away with being mediocre\, or pass the day doing just enough. You desire excellence and I want to give You my all. Continue to use the Holy Spirit as the Facilitator of my individual development plan\, and my work will be a testimony of You\, the God I work for… \nAsk the lord what he wants to say to you about today’s devotional and journal it here:   
URL:https://yourvisionwriters.com/devotional/colossians-323/
CATEGORIES:May
END:VEVENT
BEGIN:VEVENT
DTSTART;VALUE=DATE:20260526
DTEND;VALUE=DATE:20260527
DTSTAMP:20260421T184947
CREATED:20251224T093550Z
LAST-MODIFIED:20260113T133759Z
UID:10000164-1779753600-1779839999@yourvisionwriters.com
SUMMARY:Matthew 19:16
DESCRIPTION:Matthew 19:16 And\, behold\, one came and said unto him\, Good Master\, what good thing shall I do\, that I may have eternal life? (KJV) \nWhat are you asking God for? \nBecause you are in a war\, being refreshed and replenished is a constant need. Where do you get these needs fulfilled? You will find all you think you need and more in the secret place of the Most High God. The presence of the Lord is captivating\, overwhelming\, inspiring\, refilling\, and energizing all at the same time. When engulfed by His Spirit\, you are free. Do you know there is nothing you can’t do\, and nothing and no one can stop you\, as long as God is guiding\, covering\, and directing you? You may not have a testimony of God working things out in your life. Moses experienced God in ways that could only be described as miraculous as he took the forty-year journey from Egypt to the promised land. You can read Moses’ testimony in Psalms 91. Please take time to read it in its entirety. However\, here is an excerpt that highlights the point.  \nPsalm 91:14-15 For here is what the Lord has spoken to me: “Because you loved me\, delighted in me\, and have been loyal to my name\, I will greatly protect you. 15 I will answer your cry for help every time you pray\, and you will feel my presence in your time of trouble. I will deliver you and bring you honor.” (TPT) \nYour times of getting away to be with the Lord are most probably less frequent than they need to be. Therefore\, hold on to every one of those experiences. Do everything you can to carve out time for more of them. Those are the times when you ask God life-changing questions: “Father\, will You take me higher in You? Will You accept my offering as I surrender all of me? Will You let me know what You want me to do next?” Your passionate desire to please the Father has to ring from your heart and soul. Then you will ask for transforming things!   \nThis is what David asked of the Lord: \nPsalms 27:4 One thing I have asked of the Lord\, and that I will seek: That I may dwell in the house of the Lord [in His presence] all the days of my life\, To gaze upon the beauty [the delightful loveliness and majestic grandeur] of the Lord And to meditate in His temple. (AMP) \nThis is what the Lord asked Solomon\, what Solomon asked of the Lord\, and the Lord’s answer: \n1 Kings 3:5\, 9\, 11-13 \n5 At Gibeon the Lord appeared to Solomon in a dream by night; and God said\, “Ask! What shall I give you?”  \n9 Therefore give to Your servant an understanding heart to judge Your people\, that I may discern between good and evil. For who is able to judge this great people of Yours?  \n11-13 Then God said to him: “Because you have asked this thing\, and have not asked long life for yourself\, nor have asked riches for yourself\, nor have asked the life of your enemies\, but have asked for yourself understanding to discern justice\, 12 behold\, I have done according to your words; see\, I have given you a wise and understanding heart\, so that there has not been anyone like you before you\, nor shall any like you arise after you. 13 And I have also given you what you have not asked: both riches and honor\, so that there shall not be anyone like you among the kings all your days”. (AMP) \nLearn from the one God called a man after His own heart and the wisest man there ever was or ever will be. Make your request a good one by staying in the presence of God! \nPlease agree with me as I pray. Then ask the Lord what your prayer should be and wait for His response: \nFather\, I thank You for the joy You give me. When I come to You in prayer and when I’m in worship\, I ask You to teach me about You. I can feel Your presence. I know You bring me into Your secret place because You want to fellowship with me more than I could ever want to fellowship with You. I’m excited. I know You will show me Your way for my life. Not only do You grant me the joy of Your presence as I live\, I also have the promise that I will be with You forever. I repent for taking any of this time for granted. I want to share these experiences with the world. I want to tell everyone about my God\, who can do exceedingly and abundantly above all I can ask or think. There is nothing I can’t ask You for\, that is in Your will\, that You would withhold from me. I bless Your name… \nAsk the lord what he wants to say to you about today’s devotional and journal it here:   
URL:https://yourvisionwriters.com/devotional/matthew-1916/
CATEGORIES:May
END:VEVENT
BEGIN:VEVENT
DTSTART;VALUE=DATE:20260527
DTEND;VALUE=DATE:20260528
DTSTAMP:20260421T184947
CREATED:20251224T093754Z
LAST-MODIFIED:20260113T133759Z
UID:10000167-1779840000-1779926399@yourvisionwriters.com
SUMMARY:Psalms 37:2
DESCRIPTION:Psalms 37:24 though he fall\, he shall not be cast headlong\, for the LORD upholds his hand. (KJV) \nAre you fighting scared?  \nHave you ever watched a wrestling tag-team match? The tag team comprises two or more wrestlers who are working together as a team. According to the rules\, only one competitor per team can be the ring. Also\, the only way a wrestler can change places with a partner is to “tag” him or touch him on some part of his body. Usually\, one of the team members is being beaten down to the point they are about to lose. Then the dramatic “tagging” happens. Those rules do not govern your life in Christ.  \nExodus 14:14 The Lord will fight for you while you [only need to] keep silent and remain calm. (AMP) \nIt is not a tag-team match. God does not allow you to get all beat up and then He steps in. He is always there with you.  \nPsalm 46:1 God is our refuge and strength\, an ever-present help in trouble. (NIV) \nGod is your keeper! That is a weapon you need to settle in your spirit. The devil fights hard. He may even knock you down a time to two; he cannot hold you down forever.  \nProverbs 24:16a Although a righteous person may fall seven times\, he gets up again\, (NET) \nThe Lord is holding your hand. Fight like it! He may allow you to fall when it will strengthen you. However\, He is keeping you from destruction. This reminder should change your fighting tactics.  \nPlease agree with me as I pray. Then ask the Lord what your prayer should be and wait for His response: \nJehovah Nissi\, I repent for fighting like I will not win. You are teaching my hands to war and my fingers to fight\, and I won’t stand before the enemy trembling. There is no possibility where he will win. Nothing exists on the earth\, above the earth\, or beneath the earth he can use\, that You can’t stop. Because of You\, I fight like there is nothing You have ordained for my life that the devil can prevent me from attaining. This revelation allows me to tap into Your power within me. When You speak to me\, I want to stand on it. Though the enemy will try to whisper in my ear\, he will not move me. Your word is my rock and my solid foundation. You’re holding me\, fighting through me\, and bringing to pass what You have already purposed and predestined. You are omniscient; You know I’ve already won the victory. I repent for those days when I said\, “I’ll do it afraid.” I cannot walk in light and darkness at the same time. You have not given me the spirit of fear. The devil is the peddler of fear. I cannot partner with the enemy to accomplish something You have called me to do. I will never say\, “I will do it afraid again.” I also will no longer fight afraid… \nAsk the lord what he wants to say to you about today’s devotional and journal it here:   
URL:https://yourvisionwriters.com/devotional/psalms-372/
CATEGORIES:May
END:VEVENT
BEGIN:VEVENT
DTSTART;VALUE=DATE:20260528
DTEND;VALUE=DATE:20260529
DTSTAMP:20260421T184947
CREATED:20251224T094044Z
LAST-MODIFIED:20260113T133759Z
UID:10000169-1779926400-1780012799@yourvisionwriters.com
SUMMARY:Galatians 5:1
DESCRIPTION:Galatians 5:1 Christ defines your faith; he is your freedom from anything the law could never free you from! Find your firm footing in this freedom. Do not let religion trip you up again and harness you to a system of rules and obligations! (TMB) \nAre you freely giving? \nIn Maslow’s hierarchy of needs\, the need to belong comes right after the need to have food and be safe. It is pretty important in the life of every human being. As a Christian\, you often seek to fulfill that need in church or in some Christian ministry\, group\, or club. Depending on where you are in your relationship with the Lord\, your need to belong could put you in a position where you compromise what you know is true just to be accepted by a person or the group. This is such a strategic tool used by the enemy. There is a lot of damage that people who are sincere\, just sincerely wrong\, can do. \nColossians 2:16-19 So don’t put up with anyone pressuring you in details of diet\, worship services\, or holy days. All those things are mere shadows cast before what was to come; the substance is Christ. 18-19 Don’t tolerate people who try to run your life\, ordering you to bow and scrape\, insisting that you join their obsession with angels and that you seek out visions. They’re a lot of hot air\, that’s all they are. They’re completely out of touch with the source of life\, Christ\, who puts us together in one piece\, whose very breath and blood flow through us. He is the Head and we are the body. We can grow up healthy in God only as he nourishes us. (MSG) \nJust remember\, You Are Free. You don’t have to agree with anyone on every issue. You can stand on what you believe. No one can require anything of you\, not your time\, talent\, money\, allegiance\, presence at events\, obedience\, etc. You are free.  \n1 John 2:27 As for you\, the anointing [the special gift\, the preparation] which you received from Him remains [permanently] in you\, and you have no need for anyone to teach you. But just as His anointing teaches you [giving you insight through the presence of the Holy Spirit] about all things\, and is true and is not a lie\, and just as His anointing has taught you\, you must remain in Him [being rooted in Him\, knit to Him]. (Amplified Bible) \nThough you are free\, you want to allow the Holy Spirit to lead and guide you. It is the right choice to make when you don’t want to defy the Lord. It is important that you understand\, when you disobey the Holy Spirit’s guidance\, you are only rebelling against the Lord.  \nPsalm 51:4 Against You\, You only\, have I sinned and done that which is evil in Your sight\, so that You are justified in Your sentence and faultless in Your judgment. (AMPC) \nYour Heavenly Father is the only power over your life. He has given you an unction.  \n1 John 2:20 But you have an (unction) anointing from the Holy One [you have been set apart\, specially gifted and prepared by the Holy Spirit]\, and all of you know [the truth because He teaches us\, illuminates our minds\, and guards us from error]. (AMPC\, edited) \nYou will know when you are being obedient to the Father through the local church. You also know whether you are being rebellious or if it is just an accusation. Be excited about this information and walk in the freedom Jesus died for. God loves a cheerful giver.  \nPlease agree with me as I pray. Then ask the Lord what your prayer should be and wait for His response: \nFather\, I want to serve You out of my love for You. I repent for not doing that. I will not allow someone to impose rules\, regulations\, and obligations on my life to fit their agenda. If what anyone requests of me doesn’t fall in line with what You’ve already spoken to me; You have given me the courage to say no. I want to do what I do\, because I love You; not because I’m trying to gain footing in some place or with certain people. You continue to guide and direct me; unveiling what You have ordained for my life. I know my obedience to You must follow what You have spoken to me. I understand I can and should show my obedience to You through my experiences in whatever ministry or local church I’m assigned to. I also know You will show me how. Thank You for giving me deeper understanding. Man-made goals cannot and will not supersede what You have ordained. I thank You for showing me I don’t have to be bound anymore. I can walk in You freely. I can love You freely. I can obey You freely. I can give freely… \nAsk the lord what he wants to say to you about today’s devotional and journal it here:   
URL:https://yourvisionwriters.com/devotional/galatians-51/
CATEGORIES:May
END:VEVENT
BEGIN:VEVENT
DTSTART;VALUE=DATE:20260529
DTEND;VALUE=DATE:20260530
DTSTAMP:20260421T184947
CREATED:20251224T094348Z
LAST-MODIFIED:20260113T133759Z
UID:10000172-1780012800-1780099199@yourvisionwriters.com
SUMMARY:Ephesians 5:27
DESCRIPTION:Ephesians 5:27 Christ\, the voice of God’s intimate language\, presents the church (his restored image and likeness) to himself\, to his delightful approval without any distraction or reminder of a blemished past; no wrinkle or scar of sin’s abuse remains; she stands before him in immaculate innocence. (TMB\, edited) \nAre you spreading the joy? \nWhen the enemy reminds you of your past\, take his reminder and do two things. First\, spend some time in praise and worship\, thanking God for who He is and what He did for you. Remind yourself of the times when you thought there was no hope for you. The Lord reached down\, picked you up\, and set you on a new path.  \nPsalms 118:28 You are my God\, and I will confess\, praise\, and give thanks to You; You are my God\, I will extol You. (AMPC) \nPsalm 113:3 From the rising of the sun unto the going down of the same the Lord’s name is to be praised. (KJV) \nSecond\, take some time to reflect on what God has promised to be your future.  \nRevelation 21:3-4 and then I heard a loud voice from the throne\, saying\, “See! The tabernacle of God is among men\, and He will live among them\, and they will be His people\, and God Himself will be with them [as their God\,] 4 and He will wipe away every tear from their eyes; and there will no longer be death; there will no longer be sorrow and anguish\, or crying\, or pain; for the former order of things has passed away.” (AMP) \nYou will stand washed\, clean\, without spot or blemish. You are the church Jesus is coming back for. There will be no remnants of what used to be in your life. There will not be any scars that normally remain after a wound heals\, reminding you of a past hurt. There is a burst of energy you should get just thinking about what God has prepared for you.  \nRevelation 19:1 AFTER THIS I heard what sounded like a mighty shout of a great crowd in heaven\, exclaiming\, Hallelujah (praise the Lord)! Salvation and glory (splendor and majesty) and power (dominion and authority) [belong] to our God! (AMP) \nAre you able to witness to right now? Yes\, you are. Do it. Make this truth available to as many people as you can\, and they too can experience this same joy.  \nPlease agree with me as I pray. Then ask the Lord what your prayer should be and wait for His response: \nMy Father and my God\, You are Jehovah Tsidekenu\, The Lord Our Righteousness. I thank You for washing away all my blemishes. Thank You for removing every reminder of the pain I endured throughout my life. I repent for holding on for the amount of time I did. I could not spread joy because I had of all the unresolved pain. Now I have no more scars from trials\, tribulations\, persecutions\, betrayal\, grief\, or death. You are Jehovah Maccadeschem\, The Lord Who Sanctifies. You present me clean. To say I am completely amazed is not enough. I am humbled and grateful and still those words are not enough. Father\, I can’t think of any other appropriate words. I am speechless\, which is uncommon for me. Thank You for e work You’re doing in my life\, to clear away all the rubbish\, all the hurt\, and all the pain. I am the church You are returning for. It is a miracle. Thank You is the best and least I can say… \nAsk the lord what he wants to say to you about today’s devotional and journal it here:   
URL:https://yourvisionwriters.com/devotional/ephesians-527/
CATEGORIES:May
END:VEVENT
BEGIN:VEVENT
DTSTART;VALUE=DATE:20260530
DTEND;VALUE=DATE:20260531
DTSTAMP:20260421T184947
CREATED:20251224T094716Z
LAST-MODIFIED:20260113T133759Z
UID:10000175-1780099200-1780185599@yourvisionwriters.com
SUMMARY:Timothy 4:12
DESCRIPTION:1 Timothy 4:12 Let no one despise you for your youth\, but set the believers an example in speech\, in conduct\, in love\, in faith\, in purity. (KJV) \nAre you letting your light shine? \nIt does not matter how long ago you got saved. If you look long enough\, you will probably find some seasoned saints\, those who have been saved for a long time. Sometimes\, the seasoned saints might inadvertently dismiss your input because of your youth. How do you and others define youth? Youth is a function of age. The time you have been alive measures age. The Bible refers to time in three different ways: \n\nChronos – meaning minutes and seconds\, or time as a measurable resource. \nHora  – meaning a certain or definite time or season fixed by natural law and returning with the revolving year. \nKairos – meaning God’s timing\, especially in terms of fulfilling the prophetic\, and completing His will and purposes.  \n\nKnow that the saints can measure your youth in Chronos\, Hora or Kairos time. They will say things like\, “when you have been on the battlefield as long as I have you will know.” Don’t let that hinder you.  \n2 Peter 3:8 Don’t imagine\, dear friends\, that God’s timetable is the same as ours; as the psalm says\, for with the Lord\, one day is like a thousand years\, and a thousand years is like one day. (TVT)  \nYou have to recognize what plot and trap the enemy is using to interfere with your passion\, and stop him. The Bible gives you instruction on what to do\, no matter how you measure your time with the Lord. \nIf Chronos: \nEphesians 5:15-16 Therefore see that you walk carefully [living life with honor\, purpose\, and courage; shunning those who tolerate and enable evil]\, not as the unwise\, but as wise [sensible\, intelligent\, discerning people]\, 16 making the very most of your time [on earth\, recognizing and taking advantage of each opportunity and using it with wisdom and diligence]\, because the days are [filled with] evil. (AMP)  \nIf Hora: \nEcclesiastes 3:1-8 To everything there is a season\, A time for every purpose under heaven: 2 A time to be born\, And a time to die; A time to plant\, And a time to pluck what is planted; 3 A time to kill\, And a time to heal; A time to break down\, And a time to build up; 4 A time to weep\, And a time to laugh; A time to mourn\, \nAnd a time to dance; 5 A time to cast away stones\, And a time to gather stones; A time to embrace\, And a time to refrain from embracing; 6 A time to gain\, And a time to lose; A time to keep\, And a time to throw away; 7 A time to tear\, And a time to sew; A time to keep silence\, And a time to speak; 8 A time to love\, And a time to hate; A time of war\, And a time of peace. (NKJV)  \nIf Kairos: \nHabakkuk 2:3 “For the vision is yet for the appointed [future] time It hurries toward the goal [of fulfillment]; it will not fail. Even though it delays\, wait [patiently] for it\, Because it will certainly come; it will not delay.” (AMP) \nIt’s true your unbridled passion may get you into trouble. Please know\, you can be the better for it. What the enemy means for your demise\, God can get glory from\, if you let Him. Continue to live a life that glorifies God. No matter where you go or who you are with\, redeem the time and let your light shine; then men will believe in the Lord Jesus Christ. \nPlease agree with me as I pray. Then ask the Lord what your prayer should be and wait for His response: \nFather\, it does not matter how I am measuring my time with You\, I’ve come to a place where I can just be me. I can let my light shine. I thank You. I can speak of Your goodness. I can talk of who You are. I can lay claim to my salvation and openly proclaim that I’m excited about it. I will let no one despise it\, and I won’t despise it. Am I too young in terms of time on the earth? Am I too young in terms of the season I am in? Am I too young because someone else thinks You have not finished with my preparation and maturing yet? I am no longer concerned about what other people think when it comes to hearing Your voice. I will hold who You say I am and what You’ve done in my life to a higher esteem level. You have shown me I need to be excited about what You are doing and have done in my life. When I’m not\, I am telling and showing You I ashamed of You. It means I think You made a mistake or have left something out. I repent for evaluating Your work. I am grateful and I will act like it…  \nAsk the lord what he wants to say to you about today’s devotional and journal it here:
URL:https://yourvisionwriters.com/devotional/timothy-412/
CATEGORIES:May
END:VEVENT
BEGIN:VEVENT
DTSTART;VALUE=DATE:20260531
DTEND;VALUE=DATE:20260601
DTSTAMP:20260421T184947
CREATED:20251224T095149Z
LAST-MODIFIED:20260113T133759Z
UID:10000180-1780185600-1780271999@yourvisionwriters.com
SUMMARY:Galatians 6:1
DESCRIPTION:Galatians 6:1 Brethren\, if a man be overtaken in a fault\, ye which are spiritual\, restore such an one in the spirit of meekness; considering thyself\, lest thou also be tempted. (KJV) \nAre you restoring in meekness? \nHave you ever been engaged in activity you knew was not glorifying to God or edifying to the Body of Christ and a brother/sister in the Lord saw you? How did the interaction play out? Do one of these examples describe it? \nOne\, if they were truly spiritual\, they came and talked to you about it\, and you felt the love of God as they spoke. You did not feel judged or dirty. You repented to the Lord\, and He restored you. \nRomans 15:1-2 Now\, those who are mature in their faith can easily be recognized\, for they don’t live to please themselves but have learned to patiently embrace others in their immaturity. 2 Our goal must be to empower others to do what is right and good for them\, and to bring them into spiritual maturity. (TPT) \nTwo\, they were judgmental and critical. You felt even if you stopped immediately and never returned to that behavior; that person and many others would always see you the same way. In essence\, the person made you feel you would never be clean.  \nRomans 7:18-19\, 24 For I know that nothing good lives in me\, that is\, in my flesh [my human nature\, my worldliness—my sinful capacity]. For the willingness [to do good] is present in me\, but the doing of good is not. 19 For the good that I want to do\, I do not do\, but I practice the very evil that I do not want. 24 Wretched and miserable man that I am! Who will [rescue me and] set me free from this body of death [this corrupt\, mortal existence]? (AMP)  \nThree\, they said nothing to you at all. However\, you know they saw you.  \nMatthew 5:23-24 Therefore if you bring your gift to the altar\, and there remember that your brother has something against you\, 24 leave your gift there before the altar\, and go your way. First be reconciled to your brother\, and then come and offer your gift. (NKJV)  \nIt does not matter\, now\, how it played out then. Should you find yourself in any of these three scenarios\, again; follow the scripture. If you find yourself on the other side\, remember how you felt. Every believer has a target on his/her back. Though you may feel you are above temptation\, don’t allow the devil to fool you. Today it is them\, tomorrow it could be you.  \nPlease agree with me as I pray. Then ask the Lord what your prayer should be and wait for His response: \nFather\, I’ve been on both sides of the witness stand. I have been the one who saints and sinners alike have evaluated. They found me wanting and left me feeling as if there was no hope. I’ve also been the one who found someone who had erred. I want to say I always handled it right. I know I cannot. I thank You for giving me the opportunity to show Your love and mercy. I repent for those I left in a worse state. You have changed and continue to change me. Today I speak love and I speak light into the lives of those You allow to cross my path. I am grateful You find me worthy to be Your ambassador. Keep me close to You as I share the good news about You who loves no matter what. I don’t want to leave a person judged and lost because of where they are located. You are God and You can and will bring them to a new place with a new consciousness. A place where there is no condemnation\, only conviction that saves. You did it for me; I pray You can use me as a bridge to do it for others… \nAsk the lord what he wants to say to you about today’s devotional and journal it here:   
URL:https://yourvisionwriters.com/devotional/galatians-61/
CATEGORIES:May
END:VEVENT
END:VCALENDAR