BEGIN:VCALENDAR
VERSION:2.0
PRODID:-//At God&#039;s Door Ministries - ECPv6.15.13//NONSGML v1.0//EN
CALSCALE:GREGORIAN
METHOD:PUBLISH
X-ORIGINAL-URL:https://yourvisionwriters.com
X-WR-CALDESC:Events for At God&#039;s Door Ministries
REFRESH-INTERVAL;VALUE=DURATION:PT1H
X-Robots-Tag:noindex
X-PUBLISHED-TTL:PT1H
BEGIN:VTIMEZONE
TZID:America/Chicago
BEGIN:DAYLIGHT
TZOFFSETFROM:-0600
TZOFFSETTO:-0500
TZNAME:CDT
DTSTART:20250309T080000
END:DAYLIGHT
BEGIN:STANDARD
TZOFFSETFROM:-0500
TZOFFSETTO:-0600
TZNAME:CST
DTSTART:20251102T070000
END:STANDARD
BEGIN:DAYLIGHT
TZOFFSETFROM:-0600
TZOFFSETTO:-0500
TZNAME:CDT
DTSTART:20260308T080000
END:DAYLIGHT
BEGIN:STANDARD
TZOFFSETFROM:-0500
TZOFFSETTO:-0600
TZNAME:CST
DTSTART:20261101T070000
END:STANDARD
BEGIN:DAYLIGHT
TZOFFSETFROM:-0600
TZOFFSETTO:-0500
TZNAME:CDT
DTSTART:20270314T080000
END:DAYLIGHT
BEGIN:STANDARD
TZOFFSETFROM:-0500
TZOFFSETTO:-0600
TZNAME:CST
DTSTART:20271107T070000
END:STANDARD
END:VTIMEZONE
BEGIN:VEVENT
DTSTART;VALUE=DATE:20260629
DTEND;VALUE=DATE:20260630
DTSTAMP:20260423T144744
CREATED:20251224T100644Z
LAST-MODIFIED:20260113T133911Z
UID:10000193-1782691200-1782777599@yourvisionwriters.com
SUMMARY:Hebrews 10:22
DESCRIPTION:Hebrews 10:22 We are free to approach him with absolute confidence\, fully persuaded in our hearts that nothing can any longer separate us from him. We are invited to draw near now! We are thoroughly cleansed\, inside and out\, with no trace of sin’s stains on our conscience or conduct. The sprinkled blood purges our inner thought-patterns; our bodies also are bathed in clean water. (Our behavior bears witness to this.) (TMB) \nAre you frustrating the grace?  \nSmall children often hold their heads down and won’t look at their parent when they have done something wrong. Sometimes they even try to hide what they have done or lie if asked about it. That is not who you are\, nor how you act as a believer. \nRomans 8:1-2 Now the decisive conclusion is this: in Christ\, every bit of condemning evidence against us is cancelled. 2 The law of the Spirit is the liberating force of life in Christ. This leaves me with no further obligation to the law of sin and death. Spirit has superseded the sin enslaved senses as the principle law of our lives. (TMB) \nWhen you sin\, you don’t have to hold your head down. There is no reason to. You cannot hide your sin from God because He sees and knows all things. Remember\, salvation allows you access to God\, even though you have sinned. You need only repent and ask for what you need. Just as the Lord passed over the Israelites because of the blood on the doorposts\, He does not see you as you see yourself. He sees you through the blood of Jesus\, pure! \nExodus 12:13 The blood shall be a sign for you on [the doorposts of] the houses where you live; when I see the blood I shall pass over you\, and no affliction shall happen to you to destroy you when I strike the land of Egypt. (AMP) \n1 Corinthians 5:7b For indeed Christ\, our Passover\, was sacrificed for us. (NKJV) \nDon’t take advantage of God’s grace by continuing to live contrary to what you know He wants. You change how you live. \nGalatians 2:21 [Therefore\, I do not treat God’s gracious gift as something of minor importance and defeat its very purpose]; I do not set aside and invalidate and frustrate and nullify the grace (unmerited favor) of God. For if justification (righteousness\, acquittal from guilt) comes through [observing the ritual of] the Law\, then Christ (the Messiah) died groundlessly and to no purpose and in vain. [His death was then wholly superfluous.] (AMPC) \nWith freedom comes responsibility. \nPlease agree with me as I pray. Then ask the Lord what your prayer should be and wait for His response: \nFather\, thank You for covering me under the blood of Jesus. I repent for every time I treated Your grace as if I was entitled to it. Please continue to guide me and help me not to take the freedom Jesus bought for me lightly. You have taught me it dishonors You for me to sin\, and not come to You for forgiveness\, no matter what excuse I give myself not to. I hold You accountable to Your love and rest on the covering of Jesus’ blood\, even if I don’t think I am. Thank You for an enlightened revelation of my responsibility to You if I confess my love for You. You did not require me to do anything for my salvation. You willingly sent Your Son to die for me. The only thing I have to do is to be true to my love for You without hesitation. I will come boldly when I sin and repent because I do not want to grieve You…\n \nAsk the lord what he wants to say to you about today’s devotional and journal it here:
URL:https://yourvisionwriters.com/devotional/hebrews-1022/
CATEGORIES:June
END:VEVENT
BEGIN:VEVENT
DTSTART;VALUE=DATE:20260630
DTEND;VALUE=DATE:20260701
DTSTAMP:20260423T144744
CREATED:20251224T100822Z
LAST-MODIFIED:20260113T133911Z
UID:10000195-1782777600-1782863999@yourvisionwriters.com
SUMMARY:Hebrews 12:11
DESCRIPTION:Hebrews 12:11 The process of education is not immediately appreciated; at the time it seems to be more pain than pleasure\, but it certainly yields the harvest of righteousness for the faith athlete. (TMB) \nIsn’t your education and training worth it? \nThe prima ballerina’s feet and toes bled as she learned to dance. The sculptor’s hands hurt and fingers blistered as he became more adept and increased his skills as an artist. The Olympic athlete sacrifices from early childhood and gives up what she wants to be great. \nHebrews 5:8 Although He was a Son [who had never been disobedient to the Father]\, He learned [active\, special] obedience through what He suffered. (AMP) \nJesus learned obedience through the things that He suffered\, and you will as well. You don’t want to end up like the sons of Sceva. \nActs 19:15-16 But the evil spirit retorted\, “I know and recognize and acknowledge Jesus\, and I know about Paul\, but as for you\, who are you?” 16 Then the man\, in whom was the evil spirit\, leaped on them and subdued all of them and overpowered them\, so that they ran out of that house [in terror\, stripped] naked and wounded. (AMP) \nIn order for you to accomplish the task the Father has assigned for you\, you must be effective in this war. You will go through what He deems necessary for your perfection. If the devil knows your name\, that is a by-product of the life you live. As you stay in the presence of The Father\, He will show you changes that need to be made in your life. These changes will enhance your character and your witness. He will show you qualities and character traits: \n\nYou don’t currently have.\nThat He needs to develop and mature.\nThat you need to allow Him to remove from your life.\n\nYou will go through circumstances and trials ordained to produce the result He is looking for. \n2 Peter 1:5-8 But to obtain these gifts\, you need more than faith; you must also work hard to be obedient\, and even that is not enough. For then you must learn to know God better and discover what he wants you to do. 6 Next\, learn to put aside your own desires so that you will become patient and godly\, gladly letting God have his way with you. 7 This will make possible the next step\, which is for you to enjoy other people and to like them\, and finally you will grow to love them deeply. 8 The more you go on in this way\, the more you will grow strong spiritually and become fruitful and useful to our Lord Jesus Christ. (TLB\, edited) \nInstead of looking at the trials and tribulations as something that is painful that you want to go away\, look in a mirror and see Jesus. \nPlease agree with me as I pray. Then ask the Lord what your prayer should be and wait for His response: \nFather\, please forgive me for wanting to sidestep the training You have established for my perfection. I want to stand and say\, “I have fought the good fight\, I have finished the race\, I have kept the faith”. I want a crown of righteousness. Nothing else matters. You know what You ordained for me to be before the foundation of the world. You know what it will take for me to get there. You know what I will have to endure in order for the qualities required to be produced in my life. I submit myself to You. Tie me to the altar\, and I won’t; move while You are doing the work that needs to be done in me. Thank You for choosing me. Thank You for continuing to mold and train me. Thank You for using me…\n \nAsk the lord what he wants to say to you about today’s devotional and journal it here:
URL:https://yourvisionwriters.com/devotional/hebrews-1211/
CATEGORIES:June
END:VEVENT
BEGIN:VEVENT
DTSTART;VALUE=DATE:20260701
DTEND;VALUE=DATE:20260702
DTSTAMP:20260423T144744
CREATED:20251224T093124Z
LAST-MODIFIED:20260113T134025Z
UID:10000158-1782864000-1782950399@yourvisionwriters.com
SUMMARY:Corinthians 10:4
DESCRIPTION:2 Corinthians 10:4 The dynamic of our strategy is revealed in God’s ability to disengage mindsets and perceptions that have held people captive in pseudo fortresses for centuries! (TMB) \nHas God destroyed all of your strongholds? \nWhen you have on your armor\, you look at a situation from all sides. Sometimes it feels as if a person is the problem. You wonder why he or she acted that way. However\, the problem could be you. Truth demands you to separate the action from the person. It does not matter how hard you think it may be.  \nEphesians 6:12 Your hand-to-hand combat is not with human beings\, but with the highest principalities and authorities operating in rebellion under the heavenly realms. For they are a powerful class of demon-gods and evil spirits that hold this dark world in bondage. (TPT) \nIf you don’t\, stand on the word\, realizing it is not flesh and blood at work\, hurt and unforgiveness will take you to a dark place. The enemy will use your feelings as reinforcement for your pain every time you think about what happened. Your emotions fortify and protect your feelings and create what believers call a stronghold. The stronghold has you trapped because: \n\nYou have not forgiven\, and God will not forgive you.\n\nMatthew 6:14-15 “For if you forgive men their trespasses\, your heavenly Father will also forgive you. 15 But if you do not forgive men their trespasses\, neither will your Father forgive your trespasses.” (NKJV) \n\nYou are bitter and toxic.\n\nHebrews 12:14-15 Pursue peace with all people\, and holiness\, without which no one will see the Lord: 15 looking carefully lest anyone fall short of the grace of God; lest any root of bitterness springing up cause trouble\, and by this many become defiled. (NKJV) \n\nYou are hurting\, and you often knowingly and unknowingly hurt other people.\n\n1 Corinthians 10:32 Do not let yourselves be [hindrances by giving] an offense to the Jews or to the Greeks or to the church of God [do not lead others into sin by your mode of life]; (AMPC) \n\nYou can’t let it go\, and you can’t see what new things God is doing in your life. \n\nIsaiah 43:18-19 “Stop dwelling on the past. Don’t even remember these former things. 19 I am doing something brand new\, something unheard of. Even now it sprouts and grows and matures. Don’t you perceive it? I will make a way in the wilderness and open up flowing streams in the desert.” (TPT) \nTo your knees you go\, and you remember who you are. You don’t focus on how you “feel or felt”. You realize the soulish realm of your existence is not where you meet with the Father. Instead of allowing the enemy to build a stronghold\, allow the Lord to be your stronghold. \nPsalm 9:9-10 The Lord also will be a refuge and a high tower for the oppressed\, a refuge and a stronghold in times of trouble (high cost\, destitution\, and desperation). 10 And they who know Your name [who have experience and acquaintance with Your mercy] will lean on and confidently put their trust in You\, for You\, Lord\, have not forsaken those who seek (inquire of and for) You [on the authority of God’s Word and the right of their necessity]. (AMPC) \nYou go to El Shaddai\, the All-Sufficient God\, and get everything you need. He will give you the strength to forgive\, to let go\, and to move forward in Him. You wait in His presence for direction on your next step\, and you have peace. \nPlease agree with me as I pray. Then ask the Lord what your prayer should be and wait for His response: \nFather\, in the name of Jesus\, I have on the whole armor of God. I come to thank You for holding me in a place where I am prompted to walk in love and forgiveness. It is not enough to know I need to forgive; I must forgive. I repent for not forgiving sooner. I realize all I was doing was hurting myself and damaging my witness. Thank You for reminding me again. I don’t fight against flesh and blood. You are my strong tower. I can and should run to You. I know I can’t come to You in the flesh. I must come by the Holy Spirit. I don’t have all the pieces to the puzzle. I don’t know why anyone does what they do. Sometimes I don’t even know why I do the things I do. Why do I respond to one person one way and someone else a different way? Thank You for the assurance that You can cleanse my heart. You can set me free. You can destroy the strongholds that the past has built. I submit them to You\, and I thank You for destroying them…  \n \nAsk the lord what he wants to say to you about today’s devotional and journal it here:   
URL:https://yourvisionwriters.com/devotional/corinthians-104/
CATEGORIES:July
END:VEVENT
BEGIN:VEVENT
DTSTART;VALUE=DATE:20260702
DTEND;VALUE=DATE:20260703
DTSTAMP:20260423T144744
CREATED:20251224T093419Z
LAST-MODIFIED:20260113T134025Z
UID:10000162-1782950400-1783036799@yourvisionwriters.com
SUMMARY:Ephesians 6:14
DESCRIPTION:Ephesians 6:14a Stand therefore\, having your loins girt about with truth\, (KJV) \nIs your integrity obvious? \n“I’m telling the truth; I cross my heart and hope to die”. Did you say that when you were a child? Isn’t it great you don’t have to do that as an adult? You don’t have to convince a person you are not lying. It is because you have lived a life that shows you have integrity. People watch how you handle problems\, if you say when you are wrong\, if you cut corners and someone else’s expense\, etc. The Bible substantiates this premise. \nMatthew 7:20 Yes\, just as you can identify a tree by its fruit\, so you can identify people by their actions. (NLT) \nIf you are a believer\, who has on the whole armor of God\, these things should be true about you: \n\nYou speak the truth even when it might appear to be more beneficial not to. \n\n1 Peter 3:10 It is written in the psalms\, If you love life and want to live a good\, long time\, Then be careful what you say. Don’t tell lies or spread gossip or talk about improper things. (TVT) \n\nYou serve God rather than men. \n\nActs 5:29 Then Peter and the apostles replied\, “We must obey God rather than men [we have no other choice]”. (AMP) \n\nYou keep our word.  \n\nJames 5:12 Above all we must be those who never need to verify our speech as truthful by swearing by the heavens or the earth or any other oath. But instead we must be so full of integrity that our “Yes” or “No” is convincing enough and we do not stumble into hypocrisy. (TPT) \n\nYou love those around you in both word and deed.\n\n1 John 3:17-18 But whoever has this world’s goods\, and sees his brother in need\, and shuts up his heart from him\, how does the love of God abide in him? 18 My little children\, let us not love in word or in tongue\, but in deed and in truth. (NKJV) \n\nYou believe in God and therefore to follow Him in all our ways.\n\nPsalm 37:23-24The steps of a [good and righteous] man are directed and established by the Lord\, And He delights in his way [and blesses his path]. (AMP) \n\nYour life lines up with your belief and trust in God that His ways are best. \n\nProverbs 3:5-6 Trust in and rely confidently on the Lord with all your heart And do not rely on your own insight or understanding. 6 In all your ways know and acknowledge and recognize Him\, And He will make your paths straight and smooth [removing obstacles that block your way]. (AMP) \nThis is what your actions say about you. It shows your integrity. You don’t take it off and put it on. It is continuously a part of you.  \nPlease agree with me as I pray. Then ask the Lord what your prayer should be and wait for His response: \nFather\, I thank You for requiring me to live a life founded on Your word. I repent for those times I went my way. You are the Truth. I have to live a life where the truth makes me\, and those I come in contact with\, free. I thank You because I must represent You at all times\, even when doing what the world dictates would be an easy way out. I know there are no white lies\, black lies\, blue lies etc. Lies don’t have a color making them OK to tell\, they are just lies. There is no behavior that is Ok just this one time. Either it lines up with Your word or it does not. I thank You that the Holy Spirit is there to bring conviction even in my thought process\, before a lie comes out of my mouth or I make the wrong decision. There is no way for me to convince myself anything other than what glorifies You would be better. Thank You for helping me live a life free of lies\, bad choices\, and poor excuses. I live a life that gives You glory…  \n \nAsk the lord what he wants to say to you about today’s devotional and journal it here:   
URL:https://yourvisionwriters.com/devotional/ephesians-614/
CATEGORIES:July
END:VEVENT
BEGIN:VEVENT
DTSTART;VALUE=DATE:20260703
DTEND;VALUE=DATE:20260704
DTSTAMP:20260423T144744
CREATED:20251224T094246Z
LAST-MODIFIED:20260113T134025Z
UID:10000171-1783036800-1783123199@yourvisionwriters.com
SUMMARY:Luke 8:13
DESCRIPTION:Luke 8:13 They on the rock are they\, which\, when they hear\, receive the word with joy; and these have no root\, which for a while believe\, and in time of temptation fall away. (KJV) \nHow deep do your roots go? \nWhen you hear a word that truly ministers to you; it is the enemy’s job to steal it. Your job is to fight to hold on to it. You cannot allow situations in your life to make you think the word is not true\, or it is not true for you.  \nJames 1:12 If your faith remains strong\, even while surrounded by life’s difficulties\, you will continue to experience the untold blessings of God! True happiness comes as you pass the test with faith\, and receive the victorious crown of life promised to every lover of God! (TPT) \nYou have an arsenal of weapons available to you. Your study\, prayer\, and worship have rooted you in the word. You are not ignorant of satan’s devices\, specifically the ones he uses against you. He can’t catch you unaware unless you have not fully armed yourself.  \nJeremiah 17:7-8 “Blessed [with spiritual security] is the man who believes and trusts in and relies on the Lord And whose hope and confident expectation is the Lord. 8 For he will be [nourished] like a tree planted by the waters\, That spreads out its roots by the river; And will not fear the heat when it comes; But its leaves will be green and moist. And it will not be anxious and concerned in a year of drought Nor stop bearing fruit”. (AMP) \nArm yourself! Not for the day\, stay armed forever\, and hold on to the truth!    \nPlease agree with me as I pray. Then ask the Lord what your prayer should be and wait for His response: \nFather\, I thank You for rooting me and grounding me in Your truth. I thank You because Your word does not change based on my situation. I repent for acting as if it did. When the enemy comes to steal the word\, to whisper doubt\, and cause me to struggle; I can stand on the truth. I can cast down the imaginations the enemy tries to place in my mind. I can reject the image the devil shows me of myself based on a mistake. I am who You say I am. Thank You for Your word\, because it arms me and gives me strength. Jesus died for and provided the connection in my spirit\, allowing the word to take root and to grow in me. That same connection causes me to grow in You. I will continue to cultivate my roots as they grow stronger and sink deeper and deeper into You word…  \n \nAsk the lord what he wants to say to you about today’s devotional and journal it here:
URL:https://yourvisionwriters.com/devotional/luke-813-2/
CATEGORIES:July
END:VEVENT
BEGIN:VEVENT
DTSTART;VALUE=DATE:20260704
DTEND;VALUE=DATE:20260705
DTSTAMP:20260423T144744
CREATED:20251224T094439Z
LAST-MODIFIED:20260113T134025Z
UID:10000173-1783123200-1783209599@yourvisionwriters.com
SUMMARY:Ephesians 5:6
DESCRIPTION:Ephesians 5:6 Avoid any association with those who employ hollow words to entice you; unbelief only produces a breed of people that distorts the pattern of their design as image bearers of God; this certainly does not please God. (TMB) \nWho is influencing you? \nWhen you have “friends\,” associates\, people you know and interact with who don’t know Jesus Christ\, you must be careful. As you listen to them\, make sure the “logic” of their conversation\, choices\, behavior\, and recommendations do not influence you. What union has light with darkness?  \n2 Corinthians 6:14-15 Don’t develop partnerships with those who are not followers of Jesus’ teachings. For what real connection can exist between righteousness and rebellion? How can light participate in darkness? 15 What harmony can exist between the Anointed and Satan? Do the faithful and the faithless have anything in common? (TVT) \nWhen your associations do not name the name of Christ\, they have no problem with being manipulative\, con artists\, ditch diggers\, and bone carriers. They would encourage you to be the same.  \n1 Corinthians 15:33 So stop fooling yourselves! Evil companions will corrupt good morals and character. (TPT) \nDo not be one of those “Christians” who stretch themselves to the edge and beyond if it fulfilled a wish\, got them what you wanted\, and/or got them something they convinced themselves they are “entitled” to. You should make it your practice to stay away from them.  \nAmos 3:3 Can two walk together\, except they be agreed? (KJV) \nAlways remember\, you cannot get good from doing evil. Using ungodly measures to get a good thing is not a blessing from God.  \nRomans 3:8a Is it proper for us to sin\, just so good things may come? May it never be! (TPT) \nBecause you read your word continually\, it arms you with truth. Then you are careful\, and you will not choose advice that only sounds good; you will discern if it is also spiritually detrimental to you. \nPlease agree with me as I pray. Then ask the Lord what your prayer should be and wait for His response: \nFather\, I know my primary reason for associating with those who don’t love You is because I can witness to them. I repent for the times that I gave myself a pass. Thank You for putting a hedge of protection around me\, helping me not to allow negative influences to alter my path. Please continue to cover me. Please choose my friends for me. I don’t want to allow anyone who doesn’t honor You into my inner circle. Help me hide the word in my heart and I will refuse ungodly counseling that “sounds” right. I am aware manipulation\, being sneaky or being the smartest one in the room\, in order to get what I want is not Your way. Help me continue to wait on You for the blessings You’ve already ordained for me to have. Guide me and the lust of the flesh\, the lust of the eye and the pride of life won’t cause me to sin against You. Thank You for keeping me…  \n \nAsk the lord what he wants to say to you about today’s devotional and journal it here:   
URL:https://yourvisionwriters.com/devotional/ephesians-56/
CATEGORIES:July
END:VEVENT
BEGIN:VEVENT
DTSTART;VALUE=DATE:20260705
DTEND;VALUE=DATE:20260706
DTSTAMP:20260423T144744
CREATED:20251224T094724Z
LAST-MODIFIED:20260113T134026Z
UID:10000176-1783209600-1783295999@yourvisionwriters.com
SUMMARY:Ephesians 6:14b
DESCRIPTION:Ephesians 6:14b Righteousness covers your heart like a bulletproof breastplate. (TMB) \nDo you have on your breastplate? \nThis question is necessary because of your heart. Your feelings and emotions can take you on a ride\, only the presence of God can get you off of. \nJeremiah 17:9-10a “The heart is deceitful above all things And it is extremely sick; Who can understand it fully and know its secret motives? 10 I\, the Lord\, search and examine the mind\, I test the heart”. (AMP) \nYou are the righteousness of God in Christ Jesus! Salvation made you right\, not because of anything you did. You are right because of what Jesus did. It is your responsibility to put on the breastplate to guard your heart.  \nProverbs 4:23 Guard your heart above all else\, for it determines the course of your life. (NLT) \nThe heart is the soulish realm where all your desires reside\, both good and bad. You don’t have to give in to fleshly desires that lead you astray.  \nPhilippians 4:8-9 Finally\, believers\, whatever is true\, whatever is honorable and worthy of respect\, whatever is right and confirmed by God’s word\, whatever is pure and wholesome\, whatever is lovely and brings peace\, whatever is admirable and of good repute; if there is any excellence\, if there is anything worthy of praise\, think continually on these things [center your mind on them\, and implant them in your heart]. 9 The things which you have learned and received and heard and seen in me\, practice these things [in daily life]\, and the God [who is the source] of peace and well-being will be with you. (AMP) \nGod promises He will be with you. If you find you are spending too much time meditating on the wrong things\, you can say what David said. \nPsalm 51:10 Keep creating in me a clean heart. Fill me with pure thoughts and holy desires\, ready to please you. (TPT) \nPlease agree with me as I pray. Then ask the Lord what your prayer should be and wait for His response: \nFather\, I thank You for giving me what I need to guard my heart. I repent for not wearing my breastplate at all times. My emotions have ruled me\, and I know I cannot afford to live that life ever again. How I feel can affect my actions if I allow it. However\, You have taught me\, my feelings cannot govern my response to the situations in my life. What does the Lord require? What does the Lord desire? What would bring the Lord glory? I must ask myself these questions before I act. It does not matter what I feel. What I know by the spirit\, though it is not always easy\, is what will bring me life…  \n \nAsk the lord what he wants to say to you about today’s devotional and journal it here:   
URL:https://yourvisionwriters.com/devotional/ephesians-614b/
CATEGORIES:July
END:VEVENT
END:VCALENDAR