BEGIN:VCALENDAR
VERSION:2.0
PRODID:-//At God&#039;s Door Ministries - ECPv6.15.13//NONSGML v1.0//EN
CALSCALE:GREGORIAN
METHOD:PUBLISH
X-WR-CALNAME:At God&#039;s Door Ministries
X-ORIGINAL-URL:https://yourvisionwriters.com
X-WR-CALDESC:Events for At God&#039;s Door Ministries
REFRESH-INTERVAL;VALUE=DURATION:PT1H
X-Robots-Tag:noindex
X-PUBLISHED-TTL:PT1H
BEGIN:VTIMEZONE
TZID:America/Chicago
BEGIN:DAYLIGHT
TZOFFSETFROM:-0600
TZOFFSETTO:-0500
TZNAME:CDT
DTSTART:20250309T080000
END:DAYLIGHT
BEGIN:STANDARD
TZOFFSETFROM:-0500
TZOFFSETTO:-0600
TZNAME:CST
DTSTART:20251102T070000
END:STANDARD
BEGIN:DAYLIGHT
TZOFFSETFROM:-0600
TZOFFSETTO:-0500
TZNAME:CDT
DTSTART:20260308T080000
END:DAYLIGHT
BEGIN:STANDARD
TZOFFSETFROM:-0500
TZOFFSETTO:-0600
TZNAME:CST
DTSTART:20261101T070000
END:STANDARD
BEGIN:DAYLIGHT
TZOFFSETFROM:-0600
TZOFFSETTO:-0500
TZNAME:CDT
DTSTART:20270314T080000
END:DAYLIGHT
BEGIN:STANDARD
TZOFFSETFROM:-0500
TZOFFSETTO:-0600
TZNAME:CST
DTSTART:20271107T070000
END:STANDARD
END:VTIMEZONE
BEGIN:VEVENT
DTSTART;VALUE=DATE:20260713
DTEND;VALUE=DATE:20260714
DTSTAMP:20260423T113034
CREATED:20251224T111420Z
LAST-MODIFIED:20260113T134026Z
UID:10000247-1783900800-1783987199@yourvisionwriters.com
SUMMARY:Malachi 3:2
DESCRIPTION:Malachi 3:2 But who may abide the day of his coming? and who shall stand when he appeareth? For he is like a refiner’s fire\, and like fullers’ soap. (KJV) \nAre you counted as one who will abide? \nMost people understand what the refiner’s fire is and how it works. What about the fuller’s soap? A fuller’s job was to cleanse and make the cloth white. They removed dirt and oils from wool in order to make it pure white. The process the fuller used was first to soak the cloth in a soap that contained alkaline substances such as sodium carbonate or potassium (acids). Then\, with the cloth soaking in soap and water\, the fullers beat or stamped it to remove the impurities.  \nYou are being refined like oil and cleaned like cloth with every trial and test.  \nPsalm 66:10-12 O Lord\, we have passed through your fire; like precious metal made pure\, you’ve proved us\, perfected us\, and made us holy. 11 You’ve captured us\, ensnared us in your net. Then\, like prisoners\, you placed chains around our necks. 12 You’ve allowed our enemies to prevail against us. We’ve passed through fire and flood\, yet in the end you always bring us out better than we were before\, saturated with your goodness. (TPT) \nOne trial you will face continually is knowing who to believe. The Bible says:   \nMatthew 24:24 For there shall arise false Christs\, and false prophets\, and shall shew great signs and wonders; insomuch that\, if it were possible\, they shall deceive the very elect. (KJV) \nIf it were possible. That is an important phrase. How do you make sure the enemy will not deceive you? You are being refined in the fire. You spend in the presence of God\, and He will burn all the impurities out of you. You are being cleansed like the fuller cleans\, washed by the word\, and transformed from glory to glory. Your past is in the sea of forgetfulness and your instructions are\, “Go\, and sin no more”. How will you maintain your relationship with the Father and abide? You have been learning since you became a Christian and certainly in each day of this devotional\, from January until today. You must spend dedicated time in study\, in prayer and in sincere worship. You can’t forget who God is\, just because of what you see and/or experience. You walk by faith and not by sight. You must believe whether you rise first\, or you are caught up (1 Thessalonians 4:16-17)\, you have God’s provision for you. From today until Jesus comes\, be steadfast. You are the church Jesus is coming back for. Be the one who abides until the end. \nAccept and act a lifestyle according to the Beatitudes (Matthew 5).\nBuild a treasure chest of God’s promises by memorizing one or more scriptures a week.\nInto the Bible. Take time alone in morning and evening.\nDaily walking and talking with Him.\nEeating and drinking according to first Corinthians 10:31…whatever you do\, do all to the Glory of God.   \nDoreice Denson 7/20/21 \nPlease agree with me as I pray. Then ask the Lord what your prayer should be and wait for His response: \nFather\, I thank You for the refiner’s fire and the fuller’s soap. As I remain in Your presence\, You are burning off everything that does not look like You in my life. You are cleaning me up every day. I thank You for deliverance. You continue to wash me. You are getting me ready because of how much You love me. I am grateful You’re not leaving it up to me to get myself ready. I repent for allowing the situations and circumstances in my life to hold me down. I know You require me to let go of anything not like You and anyone who stands between me and You. You care more about me than I will ever know; You keep me from falling. Because You love me as much as You do\, You chastise me\, and You correct me. I will abide in You\, and Your word will abide in me and hold me. When Jesus comes back\, I will be without spot or wrinkle. I am the church You are coming for. I bless Your name…  \n  \nAsk the lord what he wants to say to you about today’s devotional and journal it here:    \n 
URL:https://yourvisionwriters.com/devotional/malachi-32/
CATEGORIES:July
END:VEVENT
BEGIN:VEVENT
DTSTART;VALUE=DATE:20260714
DTEND;VALUE=DATE:20260715
DTSTAMP:20260423T113034
CREATED:20251224T111739Z
LAST-MODIFIED:20260113T134026Z
UID:10000252-1783987200-1784073599@yourvisionwriters.com
SUMMARY:Colossians 4:12
DESCRIPTION:Colossians 4:12 Epahras\, who is also fruit of your ministry\, salutes you. What a diligent worker of Christ he is\, always laboring on your behalf with great intensity in his prayers. His desire for you is to stand strong in the full accomplishment of Christ and to be fully persuaded in God’s purpose for your lives. (TMB) \nWhat does your work evaluation say?  \nWhen you are working\, your employer designates times when you get evaluated. When you apply for a job\, you often need a letter of reference. Evaluations happen\, via tests\, surveys\, observations etc.\, all throughout your life. As a Christian\, you are constantly being evaluated by other believers and by non-believers. The Father evaluates you as well. \nYour basic and most important duty as a believer is to represent God on earth\, and men will want to be saved. You have to fulfill His set qualifications in order to be an effective ambassador/representative. Here is a short position description. The ambassador/representative of the Lord Almighty must:  \n\nHave a disciplined life. (Romans 12:1-2)\nStudy the Bible regularly\, and you will not only speak the word\, you will live it. (2 Timothy 2:15)\nPray without ceasing. (1 Thessalonians 5:17)\nCommit yourself to the body of Christ. (1 Thessalonians 3:12)\nDeal with everyone in a way that glorifies God. (John 13:35)\nHelp others learn who God is. (Hebrews 13:16)\nLive an upright moral life. (Galatians 5:19-21)\nHonor order and do God’s will. (1 Corinthians 14:33)\nAny other duties as assigned. (You can find all other duties in the 66 books of the Bible.) \n\nIf you got an evaluation or letter of recommendation\, what would it say? Ask Him. \nPsalm 26:1-2 Judge me\, O Lord; for I have walked in mine integrity: I have trusted also in the Lord; therefore I shall not slide. 2 Examine me\, O Lord\, and prove me; try my reins and my heart. (KJV) \nIf you don’t like His response\, change how you are living. People\, who speak about you to others or mention you in their prayers\, should talk about at least one of those qualities.  \nPlease agree with me as I pray. Then ask the Lord what your prayer should be and wait for His response: \nFather\, I seek to live my life as a stellar representative of You on the earth. I repent for thinking it was enough to wear the decorative pins and put banners in my car window saying\, “What Would Jesus Do”. I want people to look at my life and say\, “I see what Jesus would do”. I want my light to shine brightly in order that men\, women\, boys and girls will see my works and glorify You\, Who orders my steps. I’m reminded of the passage when Jesus said\, “Whom do men say that I am?” If I asked that question about me\, my prayer is the world would recognize Christ in me…  \n \nAsk the lord what he wants to say to you about today’s devotional and journal it here:   
URL:https://yourvisionwriters.com/devotional/colossians-412/
CATEGORIES:July
END:VEVENT
BEGIN:VEVENT
DTSTART;VALUE=DATE:20260715
DTEND;VALUE=DATE:20260716
DTSTAMP:20260423T113034
CREATED:20251224T111934Z
LAST-MODIFIED:20260113T134026Z
UID:10000254-1784073600-1784159999@yourvisionwriters.com
SUMMARY:Peter 2:9
DESCRIPTION:2 Peter 2:9 The Lord knoweth how to deliver the godly out of temptations\, and to reserve the unjust unto the day of judgment to be punished. (KJV) \nAre you confident in God’s plan? \n“I got this.” That is the phrase used when a person is confident in their ability to handle the problem at hand. The Lord God says “I got this” all day\, every day.  \nPhilippians 2:13 For it is [not your strength\, but it is] God who is effectively at work in you\, both to will and to work [that is\, strengthening\, energizing\, and creating in you the longing and the ability to fulfill your purpose] for His good pleasure. (AMP) \nHe has a plan for you\, and He always provides a way of escape. God knows you better than you know yourself. He knows what to allow for your making and what to hold back to prevent your demise.  \nJeremiah 29:11 “For I know the plans and thoughts that I have for you\,” says the Lord\, “plans for peace and well-being and not for disaster\, to give you a future and a hope.” (AMP) \nHis plan also extends to the unjust. Though it may seem they are getting away with misdeeds\, not reaping what they have sown\, laughing in the face of God and living beyond consequences\, the Bible says\,  \nPsalms 27:1-2 Fret not thyself because of evildoers\, neither be thou envious against the workers of iniquity. For they shall soon be cut down like the grass\, and wither as the green herb. (KJV) \nAlways ask the Lord to help you be confident in His plan for your life\, not yours. Refuse to let anything move you. Live a fixed and committed life and ask God for the strength\, power\, and conviction to stand by His plan until you see it come to pass. Be at peace knowing “God’s got this!” \nPlease agree with me as I pray. Then ask the Lord what your prayer should be and wait for His response: \nFather\, to say I am glad You promised to keep me and bring me into Your presence faultless\, is an understatement. It’s not my job to do it\, it is my job to stay out of Your way and allow You to do it. I don’t have to look around me\, compare myself to others. I repent for the times I did\, and it made me feel like I was failing. You showed me how that attitude meant I was diminishing Your sovereignty\, trusting what I saw\, and not trusting You. You knew the end at the beginning. You have a purpose for my life. The work You began in me\, You will perform. These are truths I am armed with\, stand on\, and hold on to. I don’t have to fix myself. I must trust in You. I must allow You to correct me. I must heed Your word and do what You say do. If I do\, it shows I am confident in Your plan. I don’t have to know all the details about what You’re doing. I know You love me…  \n \nAsk the lord what he wants to say to you about today’s devotional and journal it here: 
URL:https://yourvisionwriters.com/devotional/peter-29/
CATEGORIES:July
END:VEVENT
BEGIN:VEVENT
DTSTART;VALUE=DATE:20260716
DTEND;VALUE=DATE:20260717
DTSTAMP:20260423T113034
CREATED:20251224T112150Z
LAST-MODIFIED:20260113T134026Z
UID:10000257-1784160000-1784246399@yourvisionwriters.com
SUMMARY:Matthew 26:41
DESCRIPTION:Matthew 26:41 Watch and pray\, that ye enter not into temptation: the spirit indeed is willing\, but the flesh is weak. (KJV) \nAre you watching and praying? \nWhen Jesus was in the Garden of Gethsemane\, He told the disciples to watch and pray. He did not want them to fall into temptation. Jesus knew the devil would test them. Just like them\, He knows you are going to be tested every day of your life until He returns.  \n1 Corinthians 10:13  No temptation [regardless of its source] has overtaken or enticed you that is not common to human experience [nor is any temptation unusual or beyond human resistance]; but God is faithful [to His word—He is compassionate and trustworthy]\, and He will not let you be tempted beyond your ability [to resist]\, but along with the temptation He [has in the past and is now and] will [always] provide the way out as well\, so that you will be able to endure it [without yielding\, and will overcome temptation with joy]. (AMP) \nSince the Father knew the devil would tempt you\, He gave you a way to escape the temptation. You want to “take the way of escape” when others are falling away or yielding to temptation. How do you make the cut? Glad you asked.  \nFirst\, you accept what Jesus died for.  \nRomans 8:3 For God has done what the Law could not do\, [its power] being weakened by the flesh [the entire nature of man without the Holy Spirit]. Sending His own Son in the guise of sinful flesh and as an offering for sin\, [God] condemned sin in the flesh [subdued\, overcame\, deprived it of its power over all who accept that sacrifice]. (AMPC) \nSecond\, you recognize the enemy for who he is and what he does\, and pray. \n1 Peter 5:8-9 Be sober [well balanced and self-disciplined]\, be alert and cautious at all times. That enemy of yours\, the devil\, prowls around like a roaring lion [fiercely hungry]\, seeking someone to devour. 9 But resist him\, be firm in your faith [against his attack—rooted\, established\, immovable]\, knowing that the same experiences of suffering are being experienced by your brothers and sisters throughout the world. [You do not suffer alone.] (AMP) \nYou cannot take this posture some-of-the-time. It has to be your lifestyle. Why? Because\, like the disciples\, your spirit is willing\, however\, your flesh is weak. Bring your flesh under subjection to the will of God. Be on guard and ready for battle when it is comfortable and when it is not. Be on guard and ready for battle when it is convenient and when it is not. Have the habit of being on guard and ready for battle. God has paved your escape route; all you need do is watch and pray.  \nPlease agree with me as I pray. Then ask the Lord what your prayer should be and wait for His response: \nFather\, I can remember many times when I made a resolution to accomplish something\, correct something in my life or fulfill a task I believed You gave me. In some of those times\, I was successful. However\, in some of those times I meant well; I just didn’t get it done. I repent for those times and I remain grateful. I will continue to watch and pray. You are showing me what I call my frailties and my failures are opportunities for You to stand up stronger and taller within me. I have to change what I say about what I see. I know how the enemy attacks me. I have to continue to stay in Your presence and continue to seek Your face. If I don’t\, I close the free-flowing provision You make available to me to help me succeed. I also miss the opportunity for You to adjust my view of my situation when I look through Your eyes. You look beyond my faults and You see my need. Then You provide for my need and I thank You…  \n \nAsk the lord what he wants to say to you about today’s devotional and journal it here:   
URL:https://yourvisionwriters.com/devotional/matthew-2641/
CATEGORIES:July
END:VEVENT
BEGIN:VEVENT
DTSTART;VALUE=DATE:20260717
DTEND;VALUE=DATE:20260718
DTSTAMP:20260423T113034
CREATED:20251224T112402Z
LAST-MODIFIED:20260113T134026Z
UID:10000261-1784246400-1784332799@yourvisionwriters.com
SUMMARY:Ephesians 6:17
DESCRIPTION:Ephesians 6:17a And take the helmet of salvation. (KJV) \nAre you saved? \nIf we look at the armor\, determining the most important piece could be a matter of great discussion. It would be like trying to decide which fruit of the Spirit is best or which supernatural gift is the most essential. From purely a spiritual/logical standpoint\, the helmet of salvation is the first piece you need. These weapons are spiritual. The only way you can use them is by the spirit. \n2 Corinthians 10:3-4 For although we live in the natural realm\, we don’t wage a military campaign employing human weapons\, using manipulation to achieve our aims. Instead\, our spiritual weapons are energized with divine power to effectively dismantle the defenses behind which people hide. (TPT) \nIf you are not saved\, you live according to the flesh and not according to the spirit. When you live according to the flesh\, you cannot use spiritual weapons. More importantly\, you cannot please God.  \nRomans 8:8-9a So then those who are living the life of the flesh [catering to the appetites and impulses of their carnal nature] cannot please or satisfy God\, or be acceptable to Him. 9 But you are not living the life of the flesh\, you are living the life of the Spirit\, if the [Holy] Spirit of God [really] dwells within you [directs and controls you]. (AMPC) \nBecause you are saved\, God empowers you to use the other pieces of armor to work in your life. It is through salvation\, God-given and pure: \nYou can stand your ground when the devil attacks. (1 John 4:4)\nYou can speak the truth. (Ephesians 4:15)\nYou are the righteousness of God. (2 Corinthians 5:21)\nYou preach the gospel of peace. (2 Timothy 4:2)\nYou have faith. (Romans 10:17)\nYou have power. (2 Timothy 1:7)\nYou can hear the Lord speaking. (John 10:27) \nNo man enters a battle without understanding the war and knowing how he can win. You need the proper gear if you will be effective and victorious. Salvation gives you access to the gear. Without salvation\, your path is set; you cannot win.  \nPlease agree with me as I pray. Then ask the Lord what your prayer should be and wait for His response: \nFather\, I thank You for saving me. For a long time\, I thought the only thing salvation did for me was keep me from going to hell. I repent for not spending more time with You to get a deeper understanding. Now I know salvation did more for me than I realized. Because I am saved\, I have victory over the enemy. Salvation gives me the power to walk in love\, and I have joy. Because You saved me\, my peace is not up for grabs. I have fond memories of my father saying from the pulpit\, “It is the power to walk right\, talk right and live right.” Thank You for the power. More importantly for me\, thank You for teaching me how to access it and use it effectively in my life…  \n \nAsk the lord what he wants to say to you about today’s devotional and journal it here:   
URL:https://yourvisionwriters.com/devotional/ephesians-617/
CATEGORIES:July
END:VEVENT
BEGIN:VEVENT
DTSTART;VALUE=DATE:20260718
DTEND;VALUE=DATE:20260719
DTSTAMP:20260423T113034
CREATED:20251224T112717Z
LAST-MODIFIED:20260113T134026Z
UID:10000263-1784332800-1784419199@yourvisionwriters.com
SUMMARY:Psalms 4:3
DESCRIPTION:Psalms 4:3 But know that the Lord hath set apart him that is godly for himself: the Lord will hear when I call unto him. (KJV) \nAre you set apart? \nYou are chosen. God picked you.  \n1 Peter 2:9 But you are a chosen generation\, a royal priesthood\, a holy nation\, His own special people\, that you may proclaim the praises of Him who called you out of darkness into His marvelous light; (NKJV) \nAs you stand armed for battle\, know you are not alone. The choosing was a covenant. You have your part to uphold the things of God\, and God will uphold His word without wavering.  \nHebrews 8:10 For this is the covenant that I will make with the house of Israel after those days\, says the Lord: I will imprint My laws upon their minds\, even upon their innermost thoughts and understanding\, and engrave them upon their hearts; and I will be their God\, and they shall be My people. (AMPC) \nHe entered this agreement with you\, knowing exactly who you are. Because He knows who you are and what you will do\, He made a way for you to call to Him. He has promised to answer. Not because you won’t make mistakes\, not because you are always obedient; He answers because He loves you. \nProverbs 24:16a For a righteous man may fall seven times And rise again. (NKJV) \nHe examines your heart\, not your actions. He sees you when you pray and study. \n1 Kings 8:39 then hear in heaven Your dwelling place\, and forgive and act and give to each according to his ways\, whose heart (mind) You know\, for You and You alone know the hearts of all the children of men. (AMP) \nYour pure worship and praise go up to Him as a sweet savor. Know this\, because God set you apart\, you can run to the Rock who is higher than you\, and find refuge from the storm.  \nPlease agree with me as I pray. Then ask the Lord what your prayer should be and wait for His response: \nFather\, I just don’t know why You would pick me\, thank You. If I was doing the choosing\, I probably wouldn’t have picked me. Even right now\, I repent for the things I have done that should have disqualified me. Not because I am worse than anyone else\, it’s just that when I look in Your word\, I don’t measure up. Yet\, You didn’t disqualify me; You picked me. I don’t say I would not pick me to second guess Your choice. I say it to make sure I stay humble. Not only did You desire me\, You set me apart. You knew every decision I would make\, the good ones and the bad ones. You knew when I would obey You and when I would reject You. You knew when I would allow Your word to transform me into Your image and when I would try to make provision for my flesh. Yet\, You chose me anyway. Because You know all about me\, You also know exactly what needs to happen in my life in order to buff out the rough places and fix the dents. I thank You for loving me. Your love for me takes me through situations and allows certain things to happen because You know exactly what I need. I am assured because I can call to You when I see myself stumbling and You answer\, every time…  \n \nAsk the lord what he wants to say to you about today’s devotional and journal it here:   
URL:https://yourvisionwriters.com/devotional/psalms-43/
CATEGORIES:July
END:VEVENT
BEGIN:VEVENT
DTSTART;VALUE=DATE:20260719
DTEND;VALUE=DATE:20260720
DTSTAMP:20260423T113034
CREATED:20251224T112940Z
LAST-MODIFIED:20260113T134026Z
UID:10000266-1784419200-1784505599@yourvisionwriters.com
SUMMARY:Corinthians 1:12
DESCRIPTION:2 Corinthians 1:12 The testimony of our conscience is the source of our joy! We are intertwined together in transparent innocence; there is no trace of a hidden agenda for the flesh to glory in. God’s grace is our conversation in the world and is amplified in our oneness with you. Grace abounds! (TMB) \nWhat kind of lifestyle do you have? \nHave you ever heard someone say\, “God knows my heart”? Often a person uses that excuse when she/he has done or said something they know was displeasing. In that time and in all times\, God does know your heart.  \nPsalm 139:1-4 Lord\, you know everything there is to know about me. 2 You perceive every movement of my heart and soul\, and you understand my every thought before it even enters my mind. 3–4 You are so intimately aware of me\, Lord. You read my heart like an open book and you know all the words I’m about to speak before I even start a sentence! You know every step I will take before my journey even begins. (TPT) \nThere probably have been times when someone told you they felt misunderstood\, misquoted and/or mistreated by you (and there will be more). Maybe because of something you said or did. It was not your intent for your actions to be received the way they were. Isn’t it a wonderful thing to acknowledge God’s omniscience and feel a sense of peace sweep over you? As you stand fully clothed in the armor of God\, you can say with confidence\, “God knows my heart”. It is not a pass for sin\, it is God’s covering grace. Your lifestyle attests not only to God withholding what you deserve\, it also shows how He empowers you to live as He wills. \n1 Peter 3:10-11 For let him who wants to enjoy life and see good days [good—whether apparent or not] keep his tongue free from evil and his lips from guile (treachery\, deceit). 11 Let him turn away from wickedness and shun it\, and let him do right. Let him search for peace (harmony; undisturbedness from fears\, agitating passions\, and moral conflicts) and seek it eagerly. [Do not merely desire peaceful relations with God\, with your fellowmen\, and with yourself\, but pursue\, go after them!] (AMPC) \nPlease agree with me as I pray. Then ask the Lord what your prayer should be and wait for His response: \nFather\, I desire for You to be glorified in how I live. I thank You because I can honestly say I want to please You. Whether or not I say it\, You search and know my heart. You see exactly what’s in it. When it is time for me to make choices\, You remind me what You want and desire for me. I repent for those times when I chose me and not You. I’m grateful I can’t fool You. Others may look at me and draw their own conclusions\, judge my actions or misinterpret my intentions\, but You know. Sometimes my hands make mistakes\, but my heart is pure before You. It is the heart You saved and the heart You hold. As submit to You\, please mold and shape my attitude and my feelings. You are such an awesome God. I pray my life is a testament to how awesome You are…  \n \nAsk the lord what he wants to say to you about today’s devotional and journal it here:    \n 
URL:https://yourvisionwriters.com/devotional/corinthians-112/
CATEGORIES:July
END:VEVENT
END:VCALENDAR