BEGIN:VCALENDAR
VERSION:2.0
PRODID:-//At God&#039;s Door Ministries - ECPv6.15.13//NONSGML v1.0//EN
CALSCALE:GREGORIAN
METHOD:PUBLISH
X-WR-CALNAME:At God&#039;s Door Ministries
X-ORIGINAL-URL:https://yourvisionwriters.com
X-WR-CALDESC:Events for At God&#039;s Door Ministries
REFRESH-INTERVAL;VALUE=DURATION:PT1H
X-Robots-Tag:noindex
X-PUBLISHED-TTL:PT1H
BEGIN:VTIMEZONE
TZID:America/Chicago
BEGIN:DAYLIGHT
TZOFFSETFROM:-0600
TZOFFSETTO:-0500
TZNAME:CDT
DTSTART:20250309T080000
END:DAYLIGHT
BEGIN:STANDARD
TZOFFSETFROM:-0500
TZOFFSETTO:-0600
TZNAME:CST
DTSTART:20251102T070000
END:STANDARD
BEGIN:DAYLIGHT
TZOFFSETFROM:-0600
TZOFFSETTO:-0500
TZNAME:CDT
DTSTART:20260308T080000
END:DAYLIGHT
BEGIN:STANDARD
TZOFFSETFROM:-0500
TZOFFSETTO:-0600
TZNAME:CST
DTSTART:20261101T070000
END:STANDARD
BEGIN:DAYLIGHT
TZOFFSETFROM:-0600
TZOFFSETTO:-0500
TZNAME:CDT
DTSTART:20270314T080000
END:DAYLIGHT
BEGIN:STANDARD
TZOFFSETFROM:-0500
TZOFFSETTO:-0600
TZNAME:CST
DTSTART:20271107T070000
END:STANDARD
END:VTIMEZONE
BEGIN:VEVENT
DTSTART;VALUE=DATE:20260831
DTEND;VALUE=DATE:20260901
DTSTAMP:20260423T032513
CREATED:20251224T112547Z
LAST-MODIFIED:20260114T052833Z
UID:10000262-1788134400-1788220799@yourvisionwriters.com
SUMMARY:Proverbs 2:3
DESCRIPTION:Proverbs 2:3 Yea\, if thou criest after knowledge\, and liftest up thy voice for understanding; (KJV) \nWho is dictating your actions? \nHave you ever been in a situation and the person knew something you didn’t tell them? Did you ask them how they knew and they said\, “I just knew it”? In its simplest definition\, discernment is nothing more than the ability to decide between truth and error\, right and wrong. There are those who say this ability comes with experience. Police detectives have it\, psychologists and psychiatrists use it. Then there is the discernment that comes from God.  \nThe word describes being able to distinguish\, discern\, judge\, or appraise a person\, statement\, situation\, or environment. The Holy Spirit gives the gift of discernment to enable certain Christians to clearly recognize and distinguish between the influence of God\, Satan\, the world\, and the flesh in a given situation. \nDiscernment is a sign of your maturity in Christ and is also critical if you are to be successful on your assignment.   \nHebrews 5:14 But solid food is for full-grown men\, for those whose senses and mental faculties are trained by practice to discriminate and distinguish between what is morally good and noble and what is evil and contrary either to divine or human law. (AMPC) \nYou have to distinguish if the “Spirit of God” or some other spirit influenced what you saw and/or heard. Often\, believers use their discernment when trying to decide about what to do or who to believe.  \nHosea 14:9 Whoever is [spiritually] wise\, let him understand these things; Whoever is [spiritually] discerning and understanding\, let him know them. For the ways of the Lord are right\, And the righteous will walk in them\, \nBut transgressors will stumble and fall in them. (AMP) \nWhen you are dealing with the people of God\, you can miss it\, and cause damage that lasts for years. Don’t run on your spiritual instincts. Always remain teachable. Seek the Lord before you act or speak.  \n1 Kings 3:9 “So give your servant a discerning heart to govern your people and to distinguish between right and wrong. For who is able to govern this great people of yours?” (NIV) \nYou may find that your instinct was correct. You may also find you would have missed it. Either way\, in every situation\, you must seek the Lord\, listen to His voice\, and follow His instruction. Then you will act in a way that pleases Him. \nPlease agree with me as I pray. Then ask the Lord what your prayer should be and wait for His response: \nFather\, I am coming to You\, asking You to strengthen my discernment. Teach me. I know I think a lot. Sometimes I look at the signs\, indications and implications and think I have it all figured out. Then I use my evaluation and experience to decide my next step because I think I know what happened and what I need to do. I repent for every time I followed my way without consulting You first. You and I both know\, it does not matter how many times I was right; it was the times I was wrong\, that cost me and others. The discernment\, You give to me\, allows me to see father and clearer. It helps me understand the spirit behind the actions and the attitudes that are not readily and naturally evident. It is Your discernment that allows me to respond to any situation by showing Your love with a godly attitude and in the right frame of mind. When I walk\, using the supernatural discernment You provide\, I see how\, when\, and where the devil stepped in. I need the discernment that comes from You. Please continue to teach me. I am ineffective without it… \n\nAsk the lord what he wants to say to you about today’s devotional and journal it here:   
URL:https://yourvisionwriters.com/devotional/proverbs-23/
CATEGORIES:August
END:VEVENT
BEGIN:VEVENT
DTSTART;VALUE=DATE:20260901
DTEND;VALUE=DATE:20260902
DTSTAMP:20260423T032513
CREATED:20251224T101145Z
LAST-MODIFIED:20260113T134617Z
UID:10000198-1788220800-1788307199@yourvisionwriters.com
SUMMARY:1 Peter 5:8
DESCRIPTION:1 Peter 5:8 Be sober\, be vigilant; because your adversary the devil\, as a roaring lion\, walketh about\, seeking whom he may devour: (KJV) \nAre you on watch? \nAs a Christian\, what is your first thought when you hear about a problem in someone’s life\, whether they are at home\, work or church? Do you conclude it is the work of the devil? When you are going through\, do you examine your life trying to see what the devil is trying to kill\, steal\, or destroy? In spiritual warfare\, or any warfare for that matter\, your effectiveness begins with you. \nLuke 14:28 So don’t follow me without considering what it will cost you. For who would construct a house before first sitting down to estimate the cost to complete it? (TPT) \nThrough your times of study and prayer\, and definitely since the start of this devotional\, your understanding of how the enemy works has been enlightened. Make sure you understand how he works in your life. Even though you are saved\, the devil can still influence you. Do you say\, “The devil is not in control of my life. Salvation made Jesus my savior and my Lord”. If you are saved\, you would be right. However\, salvation does not stop the devil from talking to you. Ask Eve. \nGenesis 3:1 Now the serpent was more cunning than any beast of the field which the Lord God had made. And he said to the woman\, “Has God indeed said\, ‘You shall not eat of every tree of the garden’?” (NKJV) \nEve did not know. That’s why the devil deceived her. He is tricky. Do you hear the devil asking you questions? Did God really say…? Is it really wrong to…? Maybe it is not the devil. Maybe you are asking yourself questions because you don’t know. To watch affectively\, you must know what the word of God says. Study these other requirements\, found in the Bible\, as you watch. \n\nAlways be fully armed (Ephesians 6:11).\nKnow your weapons (2 Corinthians 10:3-4).\nTo take authority (Luke 10:19).\nBe alert and observe everything that is going on around you (1 Peter 5:8).\nPray (1 Timothy 2:1).\nDon’t abandon your responsibilities (Galatians 6:9).\nReceive and obey the instructions of the Lord (Acts 5:29).\nDo not get distracted (Joshua 1:7).\nSeek the Lord when you don’t know what to do (Luke 11:9).\nBe strong during times of testing (James 1:2-4).\nBe thankful (Ephesians 5:20).\n\nYou cannot afford to give the devil an inch because you are not watching for him\, not watching effectively\, or you underestimated how cunning he is. \nPlease agree with me as I pray. Then ask the Lord what your prayer should be and wait for His response: \nFather\, in the name of Jesus\, thank You for keeping me. Thank You for reminding me I should always be on watch. Thank You for helping me recognize when and where the enemy is at work in my life. You showed me it is not always an attack against me. Sometimes he tricks me into negatively affecting someone else’s life. I am so sorry. Thank You for teaching me what my responsibilities are. I have to keep in mind the devil is cunning. He comes as an angel of light\, yet really\, he is the prince of darkness and the father of lies. I continue to repent for every time I miss it; every time I say something\, I think is right or do something for the right reason and it turns out to be wrong. Thank You for showing me when someone got hurt\, or I caused a problem. That is never my desire. I am grateful You forgive me and You see my heart. Help me be more aware of what is going on\, in the spiritual realm. Show me how the enemy is using demonic tactics to affect my natural life. Draw me closer and shine a light on me as You continue to teach me to watch. I depend on You and You alone…\n \nAsk the lord what he wants to say to you about today’s devotional and journal it here:
URL:https://yourvisionwriters.com/devotional/1-peter-58/
CATEGORIES:September
END:VEVENT
BEGIN:VEVENT
DTSTART;VALUE=DATE:20260902
DTEND;VALUE=DATE:20260903
DTSTAMP:20260423T032513
CREATED:20251224T101355Z
LAST-MODIFIED:20260113T134617Z
UID:10000200-1788307200-1788393599@yourvisionwriters.com
SUMMARY:Romans 13:11
DESCRIPTION:Romans 13:11You must understand the urgency and context of time; it is most certainly now the hour to wake up at once out of the hypnotic state of slumber and unbelief. Salvation has come. (TMB) \nAre you taking advantage of the time? \nHave you ever decided you were going to witness to a person and heard these or similar statements in your head: “I’ll do it later.”\, “I don’t want to seem pushy.” Or “I have to get myself together first.”? What did you do? If you did nothing\, then you know you were being disobedient\, right? \nJames 4:17 So if you know of an opportunity to do the right thing today\, yet you refrain from doing it\, you’re guilty of sin. (TPT) \nYou may have called it procrastinating. Actually\, you put off witnessing until a later time\, as if time was in your hands. Maybe you didn’t obey because you didn’t feel comfortable\, or you didn’t want to do it\, or because you found something else to do\, etc. The next time you have the chance to witness\, here are some statements you might want to say to yourself\, out loud\, if necessary. \n\n“Do I really want to disobey God?”\n“I can’t act like time is on this person’s side.”\n“The devil likes it when I fail to witness\, another soul stays within his grasp longer.”\n“I don’t want some dramatic event to happen before they cry out to the Lord.”\n“God has a blessed life planned for them. I don’t want them to wait and possibly get saved in the last moments of their lives.”\n“There is too much at stake. I need to tell them\, the time is now.”\n“What if someone had not witnessed to me?”\n\nThere is no guarantee the person you witness to will accept the Lord\, however\, you don’t want to miss the opportunity to share the gospel. \nEphesians 5:15-16 So be very careful how you live\, not being like those with no understanding\, but live honorably with true wisdom\, for we are living in evil times. Take full advantage of every day as you spend your life for his purposes. (TPT) \nDon’t wait; do it now. \nPlease agree with me as I pray. Then ask the Lord what your prayer should be and wait for His response: \nFather\, I thank You for this reminder. I know there are plenty of times I used an excuse instead of witnessing to someone. I repent for every witnessing opportunity I let pass by. I have often said\, I will talk to anyone about the Lord who wants to talk. What if I am not approached? Help me be the one who approaches. I don’t want to pass up anyone in need of You. I want to take advantage of every opportunity You give me to lift Your name and to tell someone about You. Help me be strong in my determination to witness and let men see my passion for You. Use me\, Father. Give me the words to create an understanding of need in the people I witness to. Help them see they don’t have as much time as they think. The strength of my conviction makes me willing to witness. I don’t want to die not having shared the good news with every person I could have shared it with…\n \nAsk the lord what he wants to say to you about today’s devotional and journal it here:
URL:https://yourvisionwriters.com/devotional/romans-1311/
CATEGORIES:September
END:VEVENT
BEGIN:VEVENT
DTSTART;VALUE=DATE:20260903
DTEND;VALUE=DATE:20260904
DTSTAMP:20260423T032513
CREATED:20251224T101546Z
LAST-MODIFIED:20260113T134617Z
UID:10000202-1788393600-1788479999@yourvisionwriters.com
SUMMARY:1 Thessalonians 5:6
DESCRIPTION:1 Thessalonians 5:6 Live alert and you will not become intoxicated by the indifference of others. (TMB) \nDoes it take all that? \nThere is a story that has been told for a long time: \nThe Ant works hard performing his tasks all summer long\, building his house and laying up supplies for the winter. The Grasshopper thinks he is a fool and laughs\, dances and plays the summer away. Come winter\, the Ant is warm and well fed. The Grasshopper has no food or shelter\, so he dies out in the cold. (Aesop’s Fable) \nYou must live your life as God has commanded. It may seem foolish to others. You spend time in prayer instead of watching a movie. You worship instead of gossip. You choose to live your life for the Lord now instead of having fun and giving Him the scraps. You may be referred to as radical\, extra\, or over the top. \n1 Peter 2:9 But ye are a chosen generation\, a royal priesthood\, an holy nation\, a peculiar people; that ye should shew forth the praises of him who hath called you out of darkness into his marvellous light. (KJV) \nIf you are living as if Christianity is not fun\, stop it. \nJohn 10:10b I came that they may have and enjoy life\, and have it in abundance (to the full\, till it overflows). (AMPC) \nThe excitement about where you will be when winter comes should show in your life and in your worship. Don’t allow anyone to interfere with it. Your worship is not just how you respond to music in a church service; it is how you live your life. God created you to worship Him. It takes all you have to give and more. \nPlease agree with me as I pray. Then ask the Lord what your prayer should be and wait for His response: \nFather\, I thank You for leading me to recognize it takes all I have and more to live my life according to Your word and give You the worship You are due. I will continue to “do the most”. I repent when I allowed myself to be swayed by the conversation and commentary of others regarding my life. I will always stand up for my actions. It does not matter who thinks I do too much. I don’t care if I am seen as “way over the top”. I will say thank You when I am called a holy roller. I will live my life as directed by You\, whatever it takes. If You require me to be “extra”\, then I will be extra for You. I don’t want to be lukewarm; I will be hot…\n \nAsk the lord what he wants to say to you about today’s devotional and journal it here:
URL:https://yourvisionwriters.com/devotional/1-thessalonians-56/
CATEGORIES:September
END:VEVENT
BEGIN:VEVENT
DTSTART;VALUE=DATE:20260904
DTEND;VALUE=DATE:20260905
DTSTAMP:20260423T032513
CREATED:20251224T101729Z
LAST-MODIFIED:20260113T134617Z
UID:10000204-1788480000-1788566399@yourvisionwriters.com
SUMMARY:Luke 21:8
DESCRIPTION:Luke 21:8 And he said\, take heed that ye be not deceived: for many shall come in my name\, saying\, I am Christ; and the time draweth near: go ye not therefore after them. (KJV) \nAre you one of the very elect? \nSometimes your desire to believe in someone clouds your judgement. They can entice you\, have such an anointing\, and manifest signs and wonders that you cannot deny. \nMatthew 24:24 For there shall arise false Christs\, and false prophets\, and shall shew great signs and wonders; insomuch that\, if it were possible\, they shall deceive the very elect. (KJV) \nSometime your emotions can cause you to agree to do things contrary to the will of God. This is most sad when the person\, causing you to stumble\, is someone you trust in for spiritual leadership. \n2 Peter 2:1-2 Just as false prophets rose up in the past among God’s people\, false teachers will rise up in the future among you. They will slip in with their destructive opinions\, denying the very Master who bought their freedom and dooming themselves to destruction swiftly\, 2 but not before they attract others by their unbridled and immoral behavior. Because of them and their ways\, others will criticize and condemn the path of truth we walk as seedy and disreputable. (TVT) \nThe word says even the very elect would be deceived if it were possible. It is not possible because the very elect accepted that God chose them and they chose Him right back. They have a genuine relationship with Him and unwavering faith in Him. \nJohn 15:16 You have not chosen Me\, but I have chosen you and I have appointed you [I have planted you]\, that you might go and bear fruit and keep on bearing\, and that your fruit may be lasting [that it may remain\, abide]\, so that whatever you ask the Father in My Name [as presenting all that I Am]\, He may give it to you. (AMPC) \nYou will not be deceived\, and your fruit will remain when you know God for yourself. You have to read and study the word\, spend time in prayer\, dedicate yourself to worship\, and meditate daily. That is how you develop a bond that will make you steadfast\, strong\, and unmovable. That is how you will be able to discern when you are being told something that is not true. That is how you will be rooted and grounded enough to resist. \nPlease agree with me as I pray. Then ask the Lord what your prayer should be and wait for His response: \nFather\, my desire is to be one of the very elect. Thank You for showing me I can. I want to be close enough to You to discern what is true no matter who is speaking. I don’t want to be caught up in cults\, phoniness and things having a form of godliness\, yet no power. I want to walk in Your power. I know the only way this can be true for me is to spend time with You. I repent for every shortcut I tried to take. Thank You for showing me I could only get so close if all I did was pray repetitious\, quick prayers when I remembered to pray. I couldn’t build a relationship with You when I did all the talking. My prayer time had to be more than a laundry list of things I wanted You to do. Thank You for changing me. Now I don’t end our conversation without waiting to hear what You have to say. I spend dedicated time with You. I have learned to be still before You\, to empty myself out\, and wait for You to fill me. I was willing\, and You met me at my level of expectancy and beyond. You helped me build a strong relationship with You and I thank You for it…\n \nAsk the lord what he wants to say to you about today’s devotional and journal it here:
URL:https://yourvisionwriters.com/devotional/luke-218/
CATEGORIES:September
END:VEVENT
BEGIN:VEVENT
DTSTART;VALUE=DATE:20260905
DTEND;VALUE=DATE:20260906
DTSTAMP:20260423T032513
CREATED:20251224T101950Z
LAST-MODIFIED:20260113T134617Z
UID:10000206-1788566400-1788652799@yourvisionwriters.com
SUMMARY:1 Peter 1:13
DESCRIPTION:1 Peter 1:13 Therefore\, preparing your minds for action\, and being sober-minded\, set your hope fully on the grace that will be brought to you at the revelation of Jesus Christ. (ESV) \nWhat are you thinking about? \nMake sure you are aware of the things you spend time thinking about. You are what you think. \nProverbs 23:7a For as he thinks within himself\, so he is. (NASV) \nThis passage is about being aware of what a person offers to you. However\, the heart of the matter is what the giver said does not line up with what he thought. \nOur thoughts are the fuel for our mind. Our thoughts fuel our dreams and aspirations or they can bind us from \naccomplishing them. A particular train of thought persisted in\, be it good or bad\, cannot fail to produce its results on the character and circumstances. A man cannot directly choose his circumstances\, but he can choose his thoughts\, and so indirectly\, yet surely\, shape his circumstances.                      \nJames Allen\, author of As a Man Thinketh \nThe books you read\, the movies you view\, the songs you listen to\, and the television programs you watch all affect what you think about. You probably realize you cannot control what enters your conscious thoughts. Well\, that is also true for your subconscious thoughts. You must regulate what enters your conscious mind because your subconscious mind picks up and retains everything. Here is the progression that creates influence: \n\nThe gateways into your mind are your eyes and your ears. What you see and hear affects what you think about.\n\nMatthew 13:15b Otherwise they would open their eyes to see\, and open their ears to hear\, and open their minds to understand. Then they would turn to me and I would instantly heal them. (TPT) \n\nYou talk about whatever is in your heart.\n\nLuke 6:45 For the overflow of what has been stored in your heart will be seen by your fruit and will be heard in your words. (TPT) \n\nFinally\, you have what you say.\n\nMark 11:23 I assure you and most solemnly say to you\, whoever says to this mountain\, ‘Be lifted up and thrown into the sea!’ and does not doubt in his heart [in God’s unlimited power]\, but believes that what he says is going to take place\, it will be done for him [in accordance with God’s will]. (AMP) \nEven if you are watching or listening to Christian programs. It is important that you examine the word that is being presented. Don’t use them as a substitute for getting your own revelations. Whatever you bring into your space the most will produce fruit. Your attitude\, your thoughts about things\, etc. will change. The changes can be so subtle you miss them. Sometimes that is good. Sometimes it is not so good. The Bible tells you what you should think about. \nPhilippians 4:8 Finally\, believers\, whatever is true\, whatever is honorable and worthy of respect\, whatever is right and confirmed by God’s word\, whatever is pure and wholesome\, whatever is lovely and brings peace\, whatever is admirable and of good repute; if there is any excellence\, if there is anything worthy of praise\, think continually on these things [center your mind on them\, and implant them in your heart]. (AMP) \nHow do you accomplish this with all that is going on in the world and in your life? You spend time in the presence of the Lord. You set aside private time with Him and allow Him to clean your conscious and your subconscious. He renews your mind in those moments you “dedicate” to Him. There\, He shapes and reshapes what you think about. The thoughts you have in prayer and worship cause you to see everything in a different light. Those are the thoughts you want to govern your actions\, attitude and response to all the world brings. \nPlease agree with me as I pray. Then ask the Lord what your prayer should be and wait for His response: \nFather\, I want to spend my time thinking about You. I repent for the hours I wasted and the negative influences I allowed into my conscious and\, therefore\, my subconscious. I repent for thinking church service was enough. I don’t want my thoughts to be what someone else thinks about You. I want my thoughts to be what You direct me to think about. I love being in Your presence. Then I think about You\, our relationship\, our conversations\, what You share with me about who You are\, and how I’ve experienced You in my life. I base my hope in You and what You share with me through our interactions. Thank You for prompting me when I muddle my mind with movies\, songs\, and television programs that don’t glorify You. Also\, please continue to remind me I cannot satisfy the time You require of me by reading a Christian novel\, watching a Christian movie\, or listening to a sermon. I don’t want to be pacified by or live vicariously through somebody else’s relationship with You. I want a relationship with You that You created and designed for me. I want to be in Your presence. I want to learn about You\, from You. If I am faithful to these things\, I know my desire for You will grow and grow…\n \nAsk the lord what he wants to say to you about today’s devotional and journal it here:
URL:https://yourvisionwriters.com/devotional/1-peter-113/
CATEGORIES:September
END:VEVENT
BEGIN:VEVENT
DTSTART;VALUE=DATE:20260906
DTEND;VALUE=DATE:20260907
DTSTAMP:20260423T032513
CREATED:20251224T102135Z
LAST-MODIFIED:20260113T134617Z
UID:10000207-1788652800-1788739199@yourvisionwriters.com
SUMMARY:Acts 17:11
DESCRIPTION:Acts 17:11 These were more noble than those in Thessalonica\, in that they received the word with all readiness of mind\, and searched the scriptures daily\, whether those things were so. (KJV) \nAre you searching the scriptures? \nThere was always a teacher in school the students really liked. It was because of the teaching method. He listened to the questions each student asked. She always said\, “there are no stupid questions”. He explained things so clearly. Most students wanted her for every subject. \nAs a believer\, you go to church\, bible studies or any other venue where the word is taught and/or shared. Why do you go? What do you do with the information you get? Are you among those who write notes and never go back and read them? In situations where you can gain biblical knowledge\, including this one\, you have the responsibility to go to God for yourself. \nJames 1:5 If any of you lacks wisdom [to guide him through a decision or circumstance]\, he is to ask of [our benevolent] God\, who gives to everyone generously and without rebuke or blame\, and it will be given to him. (AMP) \n2 Timothy 2:15 Be diligent to present yourself approved to God as a workman who does not need to be ashamed\, accurately handling the word of truth. New American Standard Bible NASV) \nThe Lord is better than the best teacher you have ever had. He knows you. He knows what you know. He knows what you don’t know. He knows how you learn. He knows what will trip you up and what He can tell you and you will understand immediately. Your desire for knowledge needs to be as passionate as His desire to teach you is. \nPsalms 42:1-2 As the hart panteth after the water brooks\, so panteth my soul after thee\, O God. 2 My soul thirsteth for God\, for the living God: when shall I come and appear before God? (KJV) \nSeek Him until you reach Him. Ask Him if there is a connection in your spirit. If there is\, reach for more. If there is not\, ask Him what you need to do to create one. \nMatthew 5:6  “Blessed [joyful\, nourished by God’s goodness] are those who hunger and thirst for righteousness [those who actively seek right standing with God]\, for they will be [completely] satisfied”. (AMP) \nBe the one who wants to know what is true for yourself. Be willing to search until you find it. \nPlease agree with me as I pray. Then ask the Lord what your prayer should be and wait for His response: \nFather\, whenever I hear Your word being shared\, I want to know what You are speaking to me specifically. I repent for those times when I did not stop and seek You because I thought a connection was made in my spirit and because I was excited about what I was hearing. Though I could sense what I believed was Your presence. I should have prayed to make sure it was You and not my emotions. There are also times when I questioned what I heard. In those times\, though skeptical\, I repent for not coming to You for clarity. Now I come to You. I’m grateful I can. If there is an error in the presentation\, You will show me where the error is. You have also shown me sometimes it is me who caused my confusion and kept the truth from being clear. I did not have understanding and/or I had drawn inaccurate conclusions. I submit myself to You. You give me clarity and remove the confusion. Thank You. I don’t have to follow\, blindly and without questioning\, what’s being given to me. It does not matter what position\, what title\, and/or how much respect I have for the person giving the presentation. I have You. You are the final word in every matter. No matter what I feel about what is being said\, I am thankful I can come to You. Father\, today is my birthday and I would be remiss if I did not thank You for my life and for the opportunity to write this devotional. May it continue to bless others as it has blessed me…\n \nAsk the lord what he wants to say to you about today’s devotional and journal it here:
URL:https://yourvisionwriters.com/devotional/acts-1711/
CATEGORIES:September
END:VEVENT
END:VCALENDAR